Workbook

Sheet Manual
B2: 1) ¡Vaya a la hoja que lleva el nombre del mes actual!
B6: 2) Crea una lista de hábitos que quieres seguir
B25: 3) ¡Marca la finalización de tu hábito cada día! Los resultados de algunos hábitos no son visibles de inmediato; la clave está en perseverar. ¡La tabla te ayudará a seguir tu progreso!
B45: 4) ¡No te olvides de tu estado emocional!
B64: 5) Vaya a la hoja "Panel de control".
B69: 6) ¡Analiza tu progreso mensual en tus hábitos! ¡La gráfica muestra en qué mes fuiste más efectivo!
B94: ¡Listo! Ya tienes tu propia copia del rastreador para usar y personalizar. ¡Úsalo a diario y observa cómo pequeños pasos te llevan a grandes resultados! Si tienes alguna pregunta, escríbenos a: enfocalab@gmail.com

Sheet Dashboard
B2: Estadísticas Anuales
B6: Meses | C6: Progreso
B7: Ene | C7: =C24 -> 0
B8: Feb | C8: =F24 -> 0
B9: Mar | C9: =I24 -> 0
B10: Abr | C10: =L24 -> 0
B11: May | C11: =C29 -> 0
B12: Jun | C12: =F29 -> 0
B13: Jul | C13: =I29 -> 0
B14: Ago | C14: =L29 -> 0
B15: Sep | C15: =C34 -> 0
B16: Oct | C16: =F34 -> 0
B17: Nov | C17: =I34 -> 0
B18: Dic | C18: =L34 -> 0
B21: Enero | E21: Febrero | H21: Marzo | K21: Abril
B22: Número de Hábitos | C22: =Ene!J4 -> 0 | E22: Número de Hábitos | F22: =Feb!J4 -> 0 | H22: Número de Hábitos | I22: =Mar!J4 -> 0 | K22: Número de Hábitos | L22: =Abr!J4 -> 0
B23: Completados | C23: =Ene!P4 -> 0 | E23: Completados | F23: =Feb!P4 -> 0 | H23: Completados | I23: =Mar!P4 -> 0 | K23: Completados | L23: =Abr!P4 -> 0
B24: Progreso | C24: =Ene!AB4 -> 0 | E24: Progreso | F24: =Feb!AB4 -> 0 | H24: Progreso | I24: =Mar!AB4 -> 0 | K24: Progreso | L24: =Abr!AB4 -> 0
B26: Mayo | E26: Junio | H26: Julio | K26: Agosto
B27: Número de Hábitos | C27: =May!J4 -> 0 | E27: Número de Hábitos | F27: =Jun!J4 -> 0 | H27: Número de Hábitos | I27: =Jul!J4 -> 0 | K27: Número de Hábitos | L27: =Ago!J4 -> 0
B28: Completados | C28: =May!P4 -> 0 | E28: Completados | F28: =Jun!P4 -> 0 | H28: Completados | I28: =Jul!P4 -> 0 | K28: Completados | L28: =Ago!P4 -> 0
B29: Progreso | C29: =May!AB4 -> 0 | E29: Progreso | F29: =Jun!AB4 -> 0 | H29: Progreso | I29: =Jul!AB4 -> 0 | K29: Progreso | L29: =Ago!AB4 -> 0
B31: Septiembre | E31: Octubre | H31: Noviembre | K31: Diciembre
B32: Número de Hábitos | C32: =Sep!J4 -> 0 | E32: Número de Hábitos | F32: =Oct!J4 -> 0 | H32: Número de Hábitos | I32: =Nov!J4 -> 0 | K32: Número de Hábitos | L32: =Dic!J4 -> 0
B33: Completados | C33: =Sep!P4 -> 0 | E33: Completados | F33: =Oct!P4 -> 0 | H33: Completados | I33: =Nov!P4 -> 0 | K33: Completados | L33: =Dic!P4 -> 0
B34: Progreso | C34: =Sep!AB4 -> 0 | E34: Progreso | F34: =Oct!AB4 -> 0 | H34: Progreso | I34: =Nov!AB4 -> 0 | K34: Progreso | L34: =Dic!AB4 -> 0

Sheet Ejemplo
B3: Noviembre | J3: Número de hábitos | P3: Hábitos completados | V3: Progreso | AB3: Progreso en %
J4: =COUNTA($B$10:$B$19) -> 10 | P4: =COUNTIF($C$10:$AF$19, TRUE) -> 255 | V4: =AB4 -> 0.85 | AB4: =(P4)/(COUNTA($C$10:$C$19)*COUNTA($C$10:$AF$10)) -> 0.85
B7: Mis hábitos | C7: Semana 1 | J7: Semana 2 | Q7: Semana 3 | X7: Semana 4 | AH7: Análisis
C8: Sáb | D8: Dom | E8: Lun | F8: Mar | G8: Mié | H8: Jue | I8: Vie | J8: Sáb | K8: Dom | L8: Lun | M8: Mar | N8: Mié | O8: Jue | P8: Vie | Q8: Sáb | R8: Dom | S8: Lun | T8: Mar | U8: Mié | V8: Jue | W8: Vie | X8: Sáb | Y8: Dom | Z8: Lun | AA8: Mar | AB8: Mié | AC8: Jue | AD8: Vie | AE8: Sáb | AF8: Dom
C9: 1 | D9: 2 | E9: 3 | F9: 4 | G9: 5 | H9: 6 | I9: 7 | J9: 8 | K9: 9 | L9: 10 | M9: 11 | N9: 12 | O9: 13 | P9: 14 | Q9: 15 | R9: 16 | S9: 17 | T9: 18 | U9: 19 | V9: 20 | W9: 21 | X9: 22 | Y9: 23 | Z9: 24 | AA9: 25 | AB9: 26 | AC9: 27 | AD9: 28 | AE9: 29 | AF9: 30 | AH9: Meta | AI9: Actual | AJ9: Progreso
B10: Despierta a las 05:00 ⏰ | C10: TRUE | D10: TRUE | E10: FALSE | F10: FALSE | G10: TRUE | H10: TRUE | I10: TRUE | J10: TRUE | K10: TRUE | L10: TRUE | M10: TRUE | N10: TRUE | O10: TRUE | P10: TRUE | Q10: TRUE | R10: FALSE | S10: FALSE | T10: TRUE | U10: TRUE | V10: TRUE | W10: TRUE | X10: TRUE | Y10: TRUE | Z10: TRUE | AA10: FALSE | AB10: TRUE | AC10: TRUE | AD10: TRUE | AE10: TRUE | AF10: TRUE | AH10: =30 -> 30 | AI10: =COUNTIF(C10:AF10, TRUE) -> 25 | AJ10: =AI10/AH10 -> 0.83333333
B11: Gym 💪 | C11: TRUE | D11: TRUE | E11: FALSE | F11: FALSE | G11: FALSE | H11: TRUE | I11: TRUE | J11: TRUE | K11: TRUE | L11: TRUE | M11: TRUE | N11: TRUE | O11: TRUE | P11: TRUE | Q11: TRUE | R11: FALSE | S11: FALSE | T11: TRUE | U11: TRUE | V11: TRUE | W11: TRUE | X11: TRUE | Y11: TRUE | Z11: TRUE | AA11: TRUE | AB11: TRUE | AC11: TRUE | AD11: TRUE | AE11: FALSE | AF11: TRUE | AH11: =30 -> 30 | AI11: =COUNTIF(C11:AF11, TRUE) -> 24 | AJ11: =AI11/AH11 -> 0.8
B12: Lectura / Aprendizaje 📖 | C12: TRUE | D12: TRUE | E12: TRUE | F12: FALSE | G12: TRUE | H12: TRUE | I12: FALSE | J12: TRUE | K12: TRUE | L12: TRUE | M12: TRUE | N12: FALSE | O12: TRUE | P12: TRUE | Q12: TRUE | R12: FALSE | S12: FALSE | T12: TRUE | U12: TRUE | V12: TRUE | W12: TRUE | X12: TRUE | Y12: TRUE | Z12: TRUE | AA12: FALSE | AB12: TRUE | AC12: TRUE | AD12: TRUE | AE12: FALSE | AF12: TRUE | AH12: =30 -> 30 | AI12: =COUNTIF(C12:AF12, TRUE) -> 23 | AJ12: =AI12/AH12 -> 0.76666667
B13: Planificación del día 🗓️ | C13: TRUE | D13: TRUE | E13: TRUE | F13: FALSE | G13: TRUE | H13: TRUE | I13: FALSE | J13: TRUE | K13: TRUE | L13: FALSE | M13: TRUE | N13: TRUE | O13: TRUE | P13: TRUE | Q13: TRUE | R13: FALSE | S13: FALSE | T13: TRUE | U13: TRUE | V13: FALSE | W13: FALSE | X13: TRUE | Y13: TRUE | Z13: TRUE | AA13: TRUE | AB13: TRUE | AC13: TRUE | AD13: TRUE | AE13: TRUE | AF13: TRUE | AH13: =30 -> 30 | AI13: =COUNTIF(C13:AF13, TRUE) -> 23 | AJ13: =AI13/AH13 -> 0.76666667
B14: Seguimiento del presupuesto 💰 | C14: TRUE | D14: TRUE | E14: TRUE | F14: FALSE | G14: TRUE | H14: TRUE | I14: TRUE | J14: TRUE | K14: FALSE | L14: TRUE | M14: TRUE | N14: TRUE | O14: TRUE | P14: TRUE | Q14: TRUE | R14: FALSE | S14: TRUE | T14: TRUE | U14: TRUE | V14: TRUE | W14: TRUE | X14: TRUE | Y14: TRUE | Z14: TRUE | AA14: TRUE | AB14: TRUE | AC14: TRUE | AD14: FALSE | AE14: TRUE | AF14: TRUE | AH14: =30 -> 30 | AI14: =COUNTIF(C14:AF14, TRUE) -> 26 | AJ14: =AI14/AH14 -> 0.86666667
B15: Trabajo de proyecto 🎯 | C15: TRUE | D15: TRUE | E15: TRUE | F15: TRUE | G15: TRUE | H15: TRUE | I15: TRUE | J15: TRUE | K15: TRUE | L15: TRUE | M15: TRUE | N15: FALSE | O15: TRUE | P15: TRUE | Q15: FALSE | R15: TRUE | S15: TRUE | T15: TRUE | U15: TRUE | V15: TRUE | W15: TRUE | X15: TRUE | Y15: TRUE | Z15: TRUE | AA15: TRUE | AB15: TRUE | AC15: TRUE | AD15: TRUE | AE15: TRUE | AF15: TRUE | AH15: =30 -> 30 | AI15: =COUNTIF(C15:AF15, TRUE) -> 28 | AJ15: =AI15/AH15 -> 0.93333333
B16: Sin alcohol 🍾 | C16: TRUE | D16: TRUE | E16: TRUE | F16: TRUE | G16: FALSE | H16: TRUE | I16: TRUE | J16: TRUE | K16: FALSE | L16: TRUE | M16: TRUE | N16: TRUE | O16: TRUE | P16: TRUE | Q16: TRUE | R16: TRUE | S16: TRUE | T16: TRUE | U16: TRUE | V16: TRUE | W16: TRUE | X16: TRUE | Y16: TRUE | Z16: TRUE | AA16: TRUE | AB16: TRUE | AC16: TRUE | AD16: FALSE | AE16: TRUE | AF16: TRUE | AH16: =30 -> 30 | AI16: =COUNTIF(C16:AF16, TRUE) -> 27 | AJ16: =AI16/AH16 -> 0.9
B17: Desintoxicación de redes sociales 🌿 | C17: TRUE | D17: TRUE | E17: TRUE | F17: TRUE | G17: FALSE | H17: TRUE | I17: TRUE | J17: TRUE | K17: TRUE | L17: FALSE | M17: TRUE | N17: TRUE | O17: TRUE | P17: TRUE | Q17: TRUE | R17: TRUE | S17: TRUE | T17: TRUE | U17: TRUE | V17: TRUE | W17: TRUE | X17: TRUE | Y17: TRUE | Z17: TRUE | AA17: TRUE | AB17: TRUE | AC17: TRUE | AD17: TRUE | AE17: TRUE | AF17: TRUE | AH17: =30 -> 30 | AI17: =COUNTIF(C17:AF17, TRUE) -> 28 | AJ17: =AI17/AH17 -> 0.93333333
B18: Diario de objetivos 📔 | C18: FALSE | D18: FALSE | E18: TRUE | F18: TRUE | G18: FALSE | H18: TRUE | I18: TRUE | J18: TRUE | K18: TRUE | L18: TRUE | M18: TRUE | N18: TRUE | O18: TRUE | P18: TRUE | Q18: TRUE | R18: TRUE | S18: TRUE | T18: TRUE | U18: FALSE | V18: TRUE | W18: TRUE | X18: TRUE | Y18: TRUE | Z18: TRUE | AA18: FALSE | AB18: TRUE | AC18: TRUE | AD18: TRUE | AE18: TRUE | AF18: TRUE | AH18: =30 -> 30 | AI18: =COUNTIF(C18:AF18, TRUE) -> 25 | AJ18: =AI18/AH18 -> 0.83333333
B19: Ducha fría 🚿 | C19: TRUE | D19: TRUE | E19: FALSE | F19: TRUE | G19: FALSE | H19: TRUE | I19: TRUE | J19: TRUE | K19: TRUE | L19: FALSE | M19: TRUE | N19: TRUE | O19: TRUE | P19: TRUE | Q19: TRUE | R19: TRUE | S19: TRUE | T19: TRUE | U19: FALSE | V19: TRUE | W19: TRUE | X19: TRUE | Y19: TRUE | Z19: TRUE | AA19: TRUE | AB19: TRUE | AC19: TRUE | AD19: TRUE | AE19: TRUE | AF19: TRUE | AH19: =30 -> 30 | AI19: =COUNTIF(C19:AF19, TRUE) -> 26 | AJ19: =AI19/AH19 -> 0.86666667
B21: Progreso | C21: =COUNTIF(C10:C19, TRUE)/COUNTA(C10:C19) -> 0.9 | D21: =COUNTIF(D10:D19, TRUE)/COUNTA(D10:D19) -> 0.9 | E21: =COUNTIF(E10:E19, TRUE)/COUNTA(E10:E19) -> 0.7 | F21: =COUNTIF(F10:F19, TRUE)/COUNTA(F10:F19) -> 0.5 | G21: =COUNTIF(G10:G19, TRUE)/COUNTA(G10:G19) -> 0.5 | H21: =COUNTIF(H10:H19, TRUE)/COUNTA(H10:H19) -> 1 | I21: =COUNTIF(I10:I19, TRUE)/COUNTA(I10:I19) -> 0.8 | J21: =COUNTIF(J10:J19, TRUE)/COUNTA(J10:J19) -> 1 | ... AF21: =COUNTIF(AF10:AF19, TRUE)/COUNTA(AF10:AF19) -> 1
B22: Hecho | C22: =COUNTIF(C10:C19, TRUE) -> 9 | D22: =COUNTIF(D10:D19, TRUE) -> 9 | E22: =COUNTIF(E10:E19, TRUE) -> 7 | F22: =COUNTIF(F10:F19, TRUE) -> 5 | G22: =COUNTIF(G10:G19, TRUE) -> 5 | H22: =COUNTIF(H10:H19, TRUE) -> 10 | I22: =COUNTIF(I10:I19, TRUE) -> 8 | J22: =COUNTIF(J10:J19, TRUE) -> 10 | ... AF22: =COUNTIF(AF10:AF19, TRUE) -> 10
B23: No Hecho | C23: =COUNTIF(C10:C19, FALSE) -> 1 | D23: =COUNTIF(D10:D19, FALSE) -> 1 | E23: =COUNTIF(E10:E19, FALSE) -> 3 | F23: =COUNTIF(F10:F19, FALSE) -> 5 | G23: =COUNTIF(G10:G19, FALSE) -> 5 | H23: =COUNTIF(H10:H19, FALSE) -> 0 | I23: =COUNTIF(I10:I19, FALSE) -> 2 | J23: =COUNTIF(J10:J19, FALSE) -> 0 | ... AF23: =COUNTIF(AF10:AF19, FALSE) -> 0
C34: Estado mental
B35: Ánimo | C35: 9 | D35: 4 | E35: 6 | F35: 9 | G35: 9 | H35: 7 | I35: 9 | J35: 8 | K35: 6 | L35: 6 | M35: 4 | N35: 7 | O35: 3 | P35: 7 | Q35: 2 | R35: 5 | S35: 0 | T35: 10 | AF35: 10
B36: Motivación | C36: 7 | D36: 8 | E36: 8 | F36: 8 | I36: 5 | J36: 5 | K36: 9 | L36: 7 | M36: 5 | N36: 7 | O36: 8 | P36: 5 | Q36: 5 | R36: 8 | S36: 0 | T36: 10 | AF36: 10
C37: =(C36+C35)/20 -> 0.8 | D37: =(D36+D35)/20 -> 0.6 | E37: =(E36+E35)/20 -> 0.7 | F37: =(F36+F35)/20 -> 0.85 | G37: =(G36+G35)/20 -> 0.45 | H37: =(H36+H35)/20 -> 0.35 | I37: =(I36+I35)/20 -> 0.7 | J37: =(J36+J35)/20 -> 0.65 | ... AF37: =(AF36+AF35)/20 -> 1

Sheet Ene
B3: Enero | J3: Número de hábitos | P3: Hábitos completados | V3: Progreso | AB3: Progreso en %
J4: =COUNTA($B$10:$B$19) -> 0 | P4: =COUNTIF($C$10:$AF$19, TRUE) -> 0 | V4: =AB4 -> 0 | AB4: =IFERROR( P4 / ( COUNTA($B$10:$B$19) * COUNTA($C$10:$AG$10) ), 0) -> 0
B7: Mis hábitos | C7: Semana 1 | J7: Semana 2 | Q7: Semana 3 | X7: Semana 4 | AI7: Análisis
C8: Jue | D8: Vie | E8: Sáb | F8: Dom | G8: Lun | H8: Mar | I8: Mié | J8: Jue | K8: Vie | L8: Sáb | M8: Dom | N8: Lun | O8: Mar | P8: Mié | Q8: Jue | R8: Vie | S8: Sáb | T8: Dom | U8: Lun | V8: Mar | W8: Mié | X8: Jue | Y8: Vie | Z8: Sáb | AA8: Dom | AB8: Lun | AC8: Mar | AD8: Mié | AE8: Jue | AF8: Vie | AG8: Sáb
C9: 1 | D9: 2 | E9: 3 | F9: 4 | G9: 5 | H9: 6 | I9: 7 | J9: 8 | K9: 9 | L9: 10 | M9: 11 | N9: 12 | O9: 13 | P9: 14 | Q9: 15 | R9: 16 | S9: 17 | T9: 18 | U9: 19 | V9: 20 | W9: 21 | X9: 22 | Y9: 23 | Z9: 24 | AA9: 25 | AB9: 26 | AC9: 27 | AD9: 28 | AE9: 29 | AF9: 30 | AG9: 31 | AI9: Meta | AJ9: Actual | AK9: Progreso
C10: FALSE | D10: FALSE | E10: FALSE | F10: FALSE | G10: FALSE | H10: FALSE | I10: FALSE | J10: FALSE | K10: FALSE | L10: FALSE | M10: FALSE | N10: FALSE | O10: FALSE | P10: FALSE | Q10: FALSE | R10: FALSE | S10: FALSE | T10: FALSE | U10: FALSE | V10: FALSE | W10: FALSE | X10: FALSE | Y10: FALSE | Z10: FALSE | AA10: FALSE | AB10: FALSE | AC10: FALSE | AD10: FALSE | AE10: FALSE | AF10: FALSE | AG10: FALSE | AI10: =31 -> 31 | AJ10: =COUNTIF(C10:AF10, TRUE) -> 0 | AK10: =AJ10/AI10 -> 0
C11: FALSE | D11: FALSE | E11: FALSE | F11: FALSE | G11: FALSE | H11: FALSE | I11: FALSE | J11: FALSE | K11: FALSE | L11: FALSE | M11: FALSE | N11: FALSE | O11: FALSE | P11: FALSE | Q11: FALSE | R11: FALSE | S11: FALSE | T11: FALSE | U11: FALSE | V11: FALSE | W11: FALSE | X11: FALSE | Y11: FALSE | Z11: FALSE | AA11: FALSE | AB11: FALSE | AC11: FALSE | AD11: FALSE | AE11: FALSE | AF11: FALSE | AG11: FALSE | AI11: =31 -> 31 | AJ11: =COUNTIF(C11:AF11, TRUE) -> 0 | AK11: =AJ11/AI11 -> 0
C12: FALSE | D12: FALSE | E12: FALSE | F12: FALSE | G12: FALSE | H12: FALSE | I12: FALSE | J12: FALSE | K12: FALSE | L12: FALSE | M12: FALSE | N12: FALSE | O12: FALSE | P12: FALSE | Q12: FALSE | R12: FALSE | S12: FALSE | T12: FALSE | U12: FALSE | V12: FALSE | W12: FALSE | X12: FALSE | Y12: FALSE | Z12: FALSE | AA12: FALSE | AB12: FALSE | AC12: FALSE | AD12: FALSE | AE12: FALSE | AF12: FALSE | AG12: FALSE | AI12: =31 -> 31 | AJ12: =COUNTIF(C12:AF12, TRUE) -> 0 | AK12: =AJ12/AI12 -> 0
C13: FALSE | D13: FALSE | E13: FALSE | F13: FALSE | G13: FALSE | H13: FALSE | I13: FALSE | J13: FALSE | K13: FALSE | L13: FALSE | M13: FALSE | N13: FALSE | O13: FALSE | P13: FALSE | Q13: FALSE | R13: FALSE | S13: FALSE | T13: FALSE | U13: FALSE | V13: FALSE | W13: FALSE | X13: FALSE | Y13: FALSE | Z13: FALSE | AA13: FALSE | AB13: FALSE | AC13: FALSE | AD13: FALSE | AE13: FALSE | AF13: FALSE | AG13: FALSE | AI13: =31 -> 31 | AJ13: =COUNTIF(C13:AF13, TRUE) -> 0 | AK13: =AJ13/AI13 -> 0
C14: FALSE | D14: FALSE | E14: FALSE | F14: FALSE | G14: FALSE | H14: FALSE | I14: FALSE | J14: FALSE | K14: FALSE | L14: FALSE | M14: FALSE | N14: FALSE | O14: FALSE | P14: FALSE | Q14: FALSE | R14: FALSE | S14: FALSE | T14: FALSE | U14: FALSE | V14: FALSE | W14: FALSE | X14: FALSE | Y14: FALSE | Z14: FALSE | AA14: FALSE | AB14: FALSE | AC14: FALSE | AD14: FALSE | AE14: FALSE | AF14: FALSE | AG14: FALSE | AI14: =31 -> 31 | AJ14: =COUNTIF(C14:AF14, TRUE) -> 0 | AK14: =AJ14/AI14 -> 0
C15: FALSE | D15: FALSE | E15: FALSE | F15: FALSE | G15: FALSE | H15: FALSE | I15: FALSE | J15: FALSE | K15: FALSE | L15: FALSE | M15: FALSE | N15: FALSE | O15: FALSE | P15: FALSE | Q15: FALSE | R15: FALSE | S15: FALSE | T15: FALSE | U15: FALSE | V15: FALSE | W15: FALSE | X15: FALSE | Y15: FALSE | Z15: FALSE | AA15: FALSE | AB15: FALSE | AC15: FALSE | AD15: FALSE | AE15: FALSE | AF15: FALSE | AG15: FALSE | AI15: =31 -> 31 | AJ15: =COUNTIF(C15:AF15, TRUE) -> 0 | AK15: =AJ15/AI15 -> 0
C16: FALSE | D16: FALSE | E16: FALSE | F16: FALSE | G16: FALSE | H16: FALSE | I16: FALSE | J16: FALSE | K16: FALSE | L16: FALSE | M16: FALSE | N16: FALSE | O16: FALSE | P16: FALSE | Q16: FALSE | R16: FALSE | S16: FALSE | T16: FALSE | U16: FALSE | V16: FALSE | W16: FALSE | X16: FALSE | Y16: FALSE | Z16: FALSE | AA16: FALSE | AB16: FALSE | AC16: FALSE | AD16: FALSE | AE16: FALSE | AF16: FALSE | AG16: FALSE | AI16: =31 -> 31 | AJ16: =COUNTIF(C16:AF16, TRUE) -> 0 | AK16: =AJ16/AI16 -> 0
C17: FALSE | D17: FALSE | E17: FALSE | F17: FALSE | G17: FALSE | H17: FALSE | I17: FALSE | J17: FALSE | K17: FALSE | L17: FALSE | M17: FALSE | N17: FALSE | O17: FALSE | P17: FALSE | Q17: FALSE | R17: FALSE | S17: FALSE | T17: FALSE | U17: FALSE | V17: FALSE | W17: FALSE | X17: FALSE | Y17: FALSE | Z17: FALSE | AA17: FALSE | AB17: FALSE | AC17: FALSE | AD17: FALSE | AE17: FALSE | AF17: FALSE | AG17: FALSE | AI17: =31 -> 31 | AJ17: =COUNTIF(C17:AF17, TRUE) -> 0 | AK17: =AJ17/AI17 -> 0
C18: FALSE | D18: FALSE | E18: FALSE | F18: FALSE | G18: FALSE | H18: FALSE | I18: FALSE | J18: FALSE | K18: FALSE | L18: FALSE | M18: FALSE | N18: FALSE | O18: FALSE | P18: FALSE | Q18: FALSE | R18: FALSE | S18: FALSE | T18: FALSE | U18: FALSE | V18: FALSE | W18: FALSE | X18: FALSE | Y18: FALSE | Z18: FALSE | AA18: FALSE | AB18: FALSE | AC18: FALSE | AD18: FALSE | AE18: FALSE | AF18: FALSE | AG18: FALSE | AI18: =31 -> 31 | AJ18: =COUNTIF(C18:AF18, TRUE) -> 0 | AK18: =AJ18/AI18 -> 0
C19: FALSE | D19: FALSE | E19: FALSE | F19: FALSE | G19: FALSE | H19: FALSE | I19: FALSE | J19: FALSE | K19: FALSE | L19: FALSE | M19: FALSE | N19: FALSE | O19: FALSE | P19: FALSE | Q19: FALSE | R19: FALSE | S19: FALSE | T19: FALSE | U19: FALSE | V19: FALSE | W19: FALSE | X19: FALSE | Y19: FALSE | Z19: FALSE | AA19: FALSE | AB19: FALSE | AC19: FALSE | AD19: FALSE | AE19: FALSE | AF19: FALSE | AG19: FALSE | AI19: =31 -> 31 | AJ19: =COUNTIF(C19:AF19, TRUE) -> 0 | AK19: =AJ19/AI19 -> 0
B21: Progreso | C21: =IFERROR( COUNTIFS(C10:C19,TRUE, $B$10:$B$19,"<>") / COUNTIF($B$10:$B$19,"<>"), 0) -> 0 | D21: =IFERROR( COUNTIFS(D10:D19,TRUE, $B$10:$B$19,"<>") / COUNTIF($B$10:$B$19,"<>"), 0) -> 0 | E21: =IFERROR( COUNTIFS(E10:E19,TRUE, $B$10:$B$19,"<>") / COUNTIF($B$10:$B$19,"<>"), 0) -> 0 | F21: =IFERROR( COUNTIFS(F10:F19,TRUE, $B$10:$B$19,"<>") / COUNTIF($B$10:$B$19,"<>"), 0) -> 0 | G21: =IFERROR( COUNTIFS(G10:G19,TRUE, $B$10:$B$19,"<>") / COUNTIF($B$10:$B$19,"<>"), 0) -> 0 | H21: =IFERROR( COUNTIFS(H10:H19,TRUE, $B$10:$B$19,"<>") / COUNTIF($B$10:$B$19,"<>"), 0) -> 0 | I21: =IFERROR( COUNTIFS(I10:I19,TRUE, $B$10:$B$19,"<>") / COUNTIF($B$10:$B$19,"<>"), 0) -> 0 | J21: =IFERROR( COUNTIFS(J10:J19,TRUE, $B$10:$B$19,"<>") / COUNTIF($B$10:$B$19,"<>"), 0) -> 0 | ... AG21: =IFERROR( COUNTIFS(AG10:AG19,TRUE, $B$10:$B$19,"<>") / COUNTIF($B$10:$B$19,"<>"), 0) -> 0
B22: Hecho | C22: =COUNTIFS(C10:C19,TRUE, $B$10:$B$19,"<>") -> 0 | D22: =COUNTIFS(D10:D19,TRUE, $B$10:$B$19,"<>") -> 0 | E22: =COUNTIFS(E10:E19,TRUE, $B$10:$B$19,"<>") -> 0 | F22: =COUNTIFS(F10:F19,TRUE, $B$10:$B$19,"<>") -> 0 | G22: =COUNTIFS(G10:G19,TRUE, $B$10:$B$19,"<>") -> 0 | H22: =COUNTIFS(H10:H19,TRUE, $B$10:$B$19,"<>") -> 0 | I22: =COUNTIFS(I10:I19,TRUE, $B$10:$B$19,"<>") -> 0 | J22: =COUNTIFS(J10:J19,TRUE, $B$10:$B$19,"<>") -> 0 | ... AG22: =COUNTIFS(AG10:AG19,TRUE, $B$10:$B$19,"<>") -> 0
B23: No Hecho | C23: =COUNTIFS(C10:C19,FALSE, $B$10:$B$19,"<>") -> 0 | D23: =COUNTIFS(D10:D19,FALSE, $B$10:$B$19,"<>") -> 0 | E23: =COUNTIFS(E10:E19,FALSE, $B$10:$B$19,"<>") -> 0 | F23: =COUNTIFS(F10:F19,FALSE, $B$10:$B$19,"<>") -> 0 | G23: =COUNTIFS(G10:G19,FALSE, $B$10:$B$19,"<>") -> 0 | H23: =COUNTIFS(H10:H19,FALSE, $B$10:$B$19,"<>") -> 0 | I23: =COUNTIFS(I10:I19,FALSE, $B$10:$B$19,"<>") -> 0 | J23: =COUNTIFS(J10:J19,FALSE, $B$10:$B$19,"<>") -> 0 | ... AG23: =COUNTIFS(AG10:AG19,FALSE, $B$10:$B$19,"<>") -> 0
C34: Estado mental
B35: Ánimo
B36: Motivación
C37: =(C36+C35)/20 -> 0 | D37: =(D36+D35)/20 -> 0 | E37: =(E36+E35)/20 -> 0 | F37: =(F36+F35)/20 -> 0 | G37: =(G36+G35)/20 -> 0 | H37: =(H36+H35)/20 -> 0 | I37: =(I36+I35)/20 -> 0 | J37: =(J36+J35)/20 -> 0 | ... AG37: =(AG36+AG35)/20 -> 0

Sheet Feb
B3: Febrero | J3: Número de hábitos | P3: Hábitos completados | V3: Progreso | AB3: Progreso en %
J4: =COUNTA($B$10:$B$19) -> 0 | P4: =COUNTIF($C$10:$AD$19, TRUE) -> 0 | V4: =AB4 -> 0 | AB4: =IFERROR( P4 / ( COUNTA($B$10:$B$19) * COUNTA($C$10:$AD$10) ), 0) -> 0
B7: Mis hábitos | C7: Semana 1 | J7: Semana 2 | Q7: Semana 3 | X7: Semana 4 | AF7: Análisis
C8: Dom | D8: Lun | E8: Mar | F8: Mié | G8: Jue | H8: Vie | I8: Sáb | J8: Dom | K8: Lun | L8: Mar | M8: Mié | N8: Jue | O8: Vie | P8: Sáb | Q8: Dom | R8: Lun | S8: Mar | T8: Mié | U8: Jue | V8: Vie | W8: Sáb | X8: Dom | Y8: Lun | Z8: Mar | AA8: Mié | AB8: Jue | AC8: Vie | AD8: Sáb
C9: 1 | D9: 2 | E9: 3 | F9: 4 | G9: 5 | H9: 6 | I9: 7 | J9: 8 | K9: 9 | L9: 10 | M9: 11 | N9: 12 | O9: 13 | P9: 14 | Q9: 15 | R9: 16 | S9: 17 | T9: 18 | U9: 19 | V9: 20 | W9: 21 | X9: 22 | Y9: 23 | Z9: 24 | AA9: 25 | AB9: 26 | AC9: 27 | AD9: 28 | AF9: Meta | AG9: Actual | AH9: Progreso
C10: FALSE | D10: FALSE | E10: FALSE | F10: FALSE | G10: FALSE | H10: FALSE | I10: FALSE | J10: FALSE | K10: FALSE | L10: FALSE | M10: FALSE | N10: FALSE | O10: FALSE | P10: FALSE | Q10: FALSE | R10: FALSE | S10: FALSE | T10: FALSE | U10: FALSE | V10: FALSE | W10: FALSE | X10: FALSE | Y10: FALSE | Z10: FALSE | AA10: FALSE | AB10: FALSE | AC10: FALSE | AD10: FALSE | AF10: =28 -> 28 | AG10: =COUNTIF(C10:AD10, TRUE) -> 0 | AH10: =AG10/AF10 -> 0
C11: FALSE | D11: FALSE | E11: FALSE | F11: FALSE | G11: FALSE | H11: FALSE | I11: FALSE | J11: FALSE | K11: FALSE | L11: FALSE | M11: FALSE | N11: FALSE | O11: FALSE | P11: FALSE | Q11: FALSE | R11: FALSE | S11: FALSE | T11: FALSE | U11: FALSE | V11: FALSE | W11: FALSE | X11: FALSE | Y11: FALSE | Z11: FALSE | AA11: FALSE | AB11: FALSE | AC11: FALSE | AD11: FALSE | AF11: =28 -> 28 | AG11: =COUNTIF(C11:AD11, TRUE) -> 0 | AH11: =AG11/AF11 -> 0
C12: FALSE | D12: FALSE | E12: FALSE | F12: FALSE | G12: FALSE | H12: FALSE | I12: FALSE | J12: FALSE | K12: FALSE | L12: FALSE | M12: FALSE | N12: FALSE | O12: FALSE | P12: FALSE | Q12: FALSE | R12: FALSE | S12: FALSE | T12: FALSE | U12: FALSE | V12: FALSE | W12: FALSE | X12: FALSE | Y12: FALSE | Z12: FALSE | AA12: FALSE | AB12: FALSE | AC12: FALSE | AD12: FALSE | AF12: =28 -> 28 | AG12: =COUNTIF(C12:AD12, TRUE) -> 0 | AH12: =AG12/AF12 -> 0
C13: FALSE | D13: FALSE | E13: FALSE | F13: FALSE | G13: FALSE | H13: FALSE | I13: FALSE | J13: FALSE | K13: FALSE | L13: FALSE | M13: FALSE | N13: FALSE | O13: FALSE | P13: FALSE | Q13: FALSE | R13: FALSE | S13: FALSE | T13: FALSE | U13: FALSE | V13: FALSE | W13: FALSE | X13: FALSE | Y13: FALSE | Z13: FALSE | AA13: FALSE | AB13: FALSE | AC13: FALSE | AD13: FALSE | AF13: =28 -> 28 | AG13: =COUNTIF(C13:AD13, TRUE) -> 0 | AH13: =AG13/AF13 -> 0
C14: FALSE | D14: FALSE | E14: FALSE | F14: FALSE | G14: FALSE | H14: FALSE | I14: FALSE | J14: FALSE | K14: FALSE | L14: FALSE | M14: FALSE | N14: FALSE | O14: FALSE | P14: FALSE | Q14: FALSE | R14: FALSE | S14: FALSE | T14: FALSE | U14: FALSE | V14: FALSE | W14: FALSE | X14: FALSE | Y14: FALSE | Z14: FALSE | AA14: FALSE | AB14: FALSE | AC14: FALSE | AD14: FALSE | AF14: =28 -> 28 | AG14: =COUNTIF(C14:AD14, TRUE) -> 0 | AH14: =AG14/AF14 -> 0
C15: FALSE | D15: FALSE | E15: FALSE | F15: FALSE | G15: FALSE | H15: FALSE | I15: FALSE | J15: FALSE | K15: FALSE | L15: FALSE | M15: FALSE | N15: FALSE | O15: FALSE | P15: FALSE | Q15: FALSE | R15: FALSE | S15: FALSE | T15: FALSE | U15: FALSE | V15: FALSE | W15: FALSE | X15: FALSE | Y15: FALSE | Z15: FALSE | AA15: FALSE | AB15: FALSE | AC15: FALSE | AD15: FALSE | AF15: =28 -> 28 | AG15: =COUNTIF(C15:AD15, TRUE) -> 0 | AH15: =AG15/AF15 -> 0
C16: FALSE | D16: FALSE | E16: FALSE | F16: FALSE | G16: FALSE | H16: FALSE | I16: FALSE | J16: FALSE | K16: FALSE | L16: FALSE | M16: FALSE | N16: FALSE | O16: FALSE | P16: FALSE | Q16: FALSE | R16: FALSE | S16: FALSE | T16: FALSE | U16: FALSE | V16: FALSE | W16: FALSE | X16: FALSE | Y16: FALSE | Z16: FALSE | AA16: FALSE | AB16: FALSE | AC16: FALSE | AD16: FALSE | AF16: =28 -> 28 | AG16: =COUNTIF(C16:AD16, TRUE) -> 0 | AH16: =AG16/AF16 -> 0
C17: FALSE | D17: FALSE | E17: FALSE | F17: FALSE | G17: FALSE | H17: FALSE | I17: FALSE | J17: FALSE | K17: FALSE | L17: FALSE | M17: FALSE | N17: FALSE | O17: FALSE | P17: FALSE | Q17: FALSE | R17: FALSE | S17: FALSE | T17: FALSE | U17: FALSE | V17: FALSE | W17: FALSE | X17: FALSE | Y17: FALSE | Z17: FALSE | AA17: FALSE | AB17: FALSE | AC17: FALSE | AD17: FALSE | AF17: =28 -> 28 | AG17: =COUNTIF(C17:AD17, TRUE) -> 0 | AH17: =AG17/AF17 -> 0
C18: FALSE | D18: FALSE | E18: FALSE | F18: FALSE | G18: FALSE | H18: FALSE | I18: FALSE | J18: FALSE | K18: FALSE | L18: FALSE | M18: FALSE | N18: FALSE | O18: FALSE | P18: FALSE | Q18: FALSE | R18: FALSE | S18: FALSE | T18: FALSE | U18: FALSE | V18: FALSE | W18: FALSE | X18: FALSE | Y18: FALSE | Z18: FALSE | AA18: FALSE | AB18: FALSE | AC18: FALSE | AD18: FALSE | AF18: =28 -> 28 | AG18: =COUNTIF(C18:AD18, TRUE) -> 0 | AH18: =AG18/AF18 -> 0
C19: FALSE | D19: FALSE | E19: FALSE | F19: FALSE | G19: FALSE | H19: FALSE | I19: FALSE | J19: FALSE | K19: FALSE | L19: FALSE | M19: FALSE | N19: FALSE | O19: FALSE | P19: FALSE | Q19: FALSE | R19: FALSE | S19: FALSE | T19: FALSE | U19: FALSE | V19: FALSE | W19: FALSE | X19: FALSE | Y19: FALSE | Z19: FALSE | AA19: FALSE | AB19: FALSE | AC19: FALSE | AD19: FALSE | AF19: =28 -> 28 | AG19: =COUNTIF(C19:AD19, TRUE) -> 0 | AH19: =AG19/AF19 -> 0
B21: Progreso | C21: =IFERROR( COUNTIFS(C10:C19,TRUE, $B$10:$B$19,"<>") / COUNTIF($B$10:$B$19,"<>"), 0) -> 0 | D21: =IFERROR( COUNTIFS(D10:D19,TRUE, $B$10:$B$19,"<>") / COUNTIF($B$10:$B$19,"<>"), 0) -> 0 | E21: =IFERROR( COUNTIFS(E10:E19,TRUE, $B$10:$B$19,"<>") / COUNTIF($B$10:$B$19,"<>"), 0) -> 0 | F21: =IFERROR( COUNTIFS(F10:F19,TRUE, $B$10:$B$19,"<>") / COUNTIF($B$10:$B$19,"<>"), 0) -> 0 | G21: =IFERROR( COUNTIFS(G10:G19,TRUE, $B$10:$B$19,"<>") / COUNTIF($B$10:$B$19,"<>"), 0) -> 0 | H21: =IFERROR( COUNTIFS(H10:H19,TRUE, $B$10:$B$19,"<>") / COUNTIF($B$10:$B$19,"<>"), 0) -> 0 | I21: =IFERROR( COUNTIFS(I10:I19,TRUE, $B$10:$B$19,"<>") / COUNTIF($B$10:$B$19,"<>"), 0) -> 0 | J21: =IFERROR( COUNTIFS(J10:J19,TRUE, $B$10:$B$19,"<>") / COUNTIF($B$10:$B$19,"<>"), 0) -> 0 | ... AD21: =IFERROR( COUNTIFS(AD10:AD19,TRUE, $B$10:$B$19,"<>") / COUNTIF($B$10:$B$19,"<>"), 0) -> 0
B22: Hecho | C22: =COUNTIFS(C10:C19,TRUE, $B$10:$B$19,"<>") -> 0 | D22: =COUNTIFS(D10:D19,TRUE, $B$10:$B$19,"<>") -> 0 | E22: =COUNTIFS(E10:E19,TRUE, $B$10:$B$19,"<>") -> 0 | F22: =COUNTIFS(F10:F19,TRUE, $B$10:$B$19,"<>") -> 0 | G22: =COUNTIFS(G10:G19,TRUE, $B$10:$B$19,"<>") -> 0 | H22: =COUNTIFS(H10:H19,TRUE, $B$10:$B$19,"<>") -> 0 | I22: =COUNTIFS(I10:I19,TRUE, $B$10:$B$19,"<>") -> 0 | J22: =COUNTIFS(J10:J19,TRUE, $B$10:$B$19,"<>") -> 0 | ... AD22: =COUNTIFS(AD10:AD19,TRUE, $B$10:$B$19,"<>") -> 0
B23: No Hecho | C23: =COUNTIFS(C10:C19,FALSE, $B$10:$B$19,"<>") -> 0 | D23: =COUNTIFS(D10:D19,FALSE, $B$10:$B$19,"<>") -> 0 | E23: =COUNTIFS(E10:E19,FALSE, $B$10:$B$19,"<>") -> 0 | F23: =COUNTIFS(F10:F19,FALSE, $B$10:$B$19,"<>") -> 0 | G23: =COUNTIFS(G10:G19,FALSE, $B$10:$B$19,"<>") -> 0 | H23: =COUNTIFS(H10:H19,FALSE, $B$10:$B$19,"<>") -> 0 | I23: =COUNTIFS(I10:I19,FALSE, $B$10:$B$19,"<>") -> 0 | J23: =COUNTIFS(J10:J19,FALSE, $B$10:$B$19,"<>") -> 0 | ... AD23: =COUNTIFS(AD10:AD19,FALSE, $B$10:$B$19,"<>") -> 0
C34: Estado mental
B35: Ánimo
B36: Motivación
C37: =(C36+C35)/20 -> 0 | D37: =(D36+D35)/20 -> 0 | E37: =(E36+E35)/20 -> 0 | F37: =(F36+F35)/20 -> 0 | G37: =(G36+G35)/20 -> 0 | H37: =(H36+H35)/20 -> 0 | I37: =(I36+I35)/20 -> 0 | J37: =(J36+J35)/20 -> 0 | ... AD37: =(AD36+AD35)/20 -> 0

Sheet Mar
B3: Marzo | J3: Número de hábitos | P3: Hábitos completados | V3: Progreso | AB3: Progreso en %
J4: =COUNTA($B$10:$B$19) -> 0 | P4: =COUNTIF($C$10:$AF$19, TRUE) -> 0 | V4: =AB4 -> 0 | AB4: =IFERROR( P4 / ( COUNTA($B$10:$B$19) * COUNTA($C$10:$AG$10) ), 0) -> 0
B7: Mis hábitos | C7: Semana 1 | J7: Semana 2 | Q7: Semana 3 | X7: Semana 4 | AI7: Análisis
C8: Dom | D8: Lun | E8: Mar | F8: Mié | G8: Jue | H8: Vie | I8: Sáb | J8: Dom | K8: Lun | L8: Mar | M8: Mié | N8: Jue | O8: Vie | P8: Sáb | Q8: Dom | R8: Lun | S8: Mar | T8: Mié | U8: Jue | V8: Vie | W8: Sáb | X8: Dom | Y8: Lun | Z8: Mar | AA8: Mié | AB8: Jue | AC8: Vie | AD8: Sáb | AE8: Dom | AF8: Lun | AG8: Mar
C9: 1 | D9: 2 | E9: 3 | F9: 4 | G9: 5 | H9: 6 | I9: 7 | J9: 8 | K9: 9 | L9: 10 | M9: 11 | N9: 12 | O9: 13 | P9: 14 | Q9: 15 | R9: 16 | S9: 17 | T9: 18 | U9: 19 | V9: 20 | W9: 21 | X9: 22 | Y9: 23 | Z9: 24 | AA9: 25 | AB9: 26 | AC9: 27 | AD9: 28 | AE9: 29 | AF9: 30 | AG9: 31 | AI9: Meta | AJ9: Actual | AK9: Progreso
C10: FALSE | D10: FALSE | E10: FALSE | F10: FALSE | G10: FALSE | H10: FALSE | I10: FALSE | J10: FALSE | K10: FALSE | L10: FALSE | M10: FALSE | N10: FALSE | O10: FALSE | P10: FALSE | Q10: FALSE | R10: FALSE | S10: FALSE | T10: FALSE | U10: FALSE | V10: FALSE | W10: FALSE | X10: FALSE | Y10: FALSE | Z10: FALSE | AA10: FALSE | AB10: FALSE | AC10: FALSE | AD10: FALSE | AE10: FALSE | AF10: FALSE | AG10: FALSE | AI10: =31 -> 31 | AJ10: =COUNTIF(C10:AF10, TRUE) -> 0 | AK10: =AJ10/AI10 -> 0
C11: FALSE | D11: FALSE | E11: FALSE | F11: FALSE | G11: FALSE | H11: FALSE | I11: FALSE | J11: FALSE | K11: FALSE | L11: FALSE | M11: FALSE | N11: FALSE | O11: FALSE | P11: FALSE | Q11: FALSE | R11: FALSE | S11: FALSE | T11: FALSE | U11: FALSE | V11: FALSE | W11: FALSE | X11: FALSE | Y11: FALSE | Z11: FALSE | AA11: FALSE | AB11: FALSE | AC11: FALSE | AD11: FALSE | AE11: FALSE | AF11: FALSE | AG11: FALSE | AI11: =31 -> 31 | AJ11: =COUNTIF(C11:AF11, TRUE) -> 0 | AK11: =AJ11/AI11 -> 0
C12: FALSE | D12: FALSE | E12: FALSE | F12: FALSE | G12: FALSE | H12: FALSE | I12: FALSE | J12: FALSE | K12: FALSE | L12: FALSE | M12: FALSE | N12: FALSE | O12: FALSE | P12: FALSE | Q12: FALSE | R12: FALSE | S12: FALSE | T12: FALSE | U12: FALSE | V12: FALSE | W12: FALSE | X12: FALSE | Y12: FALSE | Z12: FALSE | AA12: FALSE | AB12: FALSE | AC12: FALSE | AD12: FALSE | AE12: FALSE | AF12: FALSE | AG12: FALSE | AI12: =31 -> 31 | AJ12: =COUNTIF(C12:AF12, TRUE) -> 0 | AK12: =AJ12/AI12 -> 0
C13: FALSE | D13: FALSE | E13: FALSE | F13: FALSE | G13: FALSE | H13: FALSE | I13: FALSE | J13: FALSE | K13: FALSE | L13: FALSE | M13: FALSE | N13: FALSE | O13: FALSE | P13: FALSE | Q13: FALSE | R13: FALSE | S13: FALSE | T13: FALSE | U13: FALSE | V13: FALSE | W13: FALSE | X13: FALSE | Y13: FALSE | Z13: FALSE | AA13: FALSE | AB13: FALSE | AC13: FALSE | AD13: FALSE | AE13: FALSE | AF13: FALSE | AG13: FALSE | AI13: =31 -> 31 | AJ13: =COUNTIF(C13:AF13, TRUE) -> 0 | AK13: =AJ13/AI13 -> 0
C14: FALSE | D14: FALSE | E14: FALSE | F14: FALSE | G14: FALSE | H14: FALSE | I14: FALSE | J14: FALSE | K14: FALSE | L14: FALSE | M14: FALSE | N14: FALSE | O14: FALSE | P14: FALSE | Q14: FALSE | R14: FALSE | S14: FALSE | T14: FALSE | U14: FALSE | V14: FALSE | W14: FALSE | X14: FALSE | Y14: FALSE | Z14: FALSE | AA14: FALSE | AB14: FALSE | AC14: FALSE | AD14: FALSE | AE14: FALSE | AF14: FALSE | AG14: FALSE | AI14: =31 -> 31 | AJ14: =COUNTIF(C14:AF14, TRUE) -> 0 | AK14: =AJ14/AI14 -> 0
C15: FALSE | D15: FALSE | E15: FALSE | F15: FALSE | G15: FALSE | H15: FALSE | I15: FALSE | J15: FALSE | K15: FALSE | L15: FALSE | M15: FALSE | N15: FALSE | O15: FALSE | P15: FALSE | Q15: FALSE | R15: FALSE | S15: FALSE | T15: FALSE | U15: FALSE | V15: FALSE | W15: FALSE | X15: FALSE | Y15: FALSE | Z15: FALSE | AA15: FALSE | AB15: FALSE | AC15: FALSE | AD15: FALSE | AE15: FALSE | AF15: FALSE | AG15: FALSE | AI15: =31 -> 31 | AJ15: =COUNTIF(C15:AF15, TRUE) -> 0 | AK15: =AJ15/AI15 -> 0
C16: FALSE | D16: FALSE | E16: FALSE | F16: FALSE | G16: FALSE | H16: FALSE | I16: FALSE | J16: FALSE | K16: FALSE | L16: FALSE | M16: FALSE | N16: FALSE | O16: FALSE | P16: FALSE | Q16: FALSE | R16: FALSE | S16: FALSE | T16: FALSE | U16: FALSE | V16: FALSE | W16: FALSE | X16: FALSE | Y16: FALSE | Z16: FALSE | AA16: FALSE | AB16: FALSE | AC16: FALSE | AD16: FALSE | AE16: FALSE | AF16: FALSE | AG16: FALSE | AI16: =31 -> 31 | AJ16: =COUNTIF(C16:AF16, TRUE) -> 0 | AK16: =AJ16/AI16 -> 0
C17: FALSE | D17: FALSE | E17: FALSE | F17: FALSE | G17: FALSE | H17: FALSE | I17: FALSE | J17: FALSE | K17: FALSE | L17: FALSE | M17: FALSE | N17: FALSE | O17: FALSE | P17: FALSE | Q17: FALSE | R17: FALSE | S17: FALSE | T17: FALSE | U17: FALSE | V17: FALSE | W17: FALSE | X17: FALSE | Y17: FALSE | Z17: FALSE | AA17: FALSE | AB17: FALSE | AC17: FALSE | AD17: FALSE | AE17: FALSE | AF17: FALSE | AG17: FALSE | AI17: =31 -> 31 | AJ17: =COUNTIF(C17:AF17, TRUE) -> 0 | AK17: =AJ17/AI17 -> 0
C18: FALSE | D18: FALSE | E18: FALSE | F18: FALSE | G18: FALSE | H18: FALSE | I18: FALSE | J18: FALSE | K18: FALSE | L18: FALSE | M18: FALSE | N18: FALSE | O18: FALSE | P18: FALSE | Q18: FALSE | R18: FALSE | S18: FALSE | T18: FALSE | U18: FALSE | V18: FALSE | W18: FALSE | X18: FALSE | Y18: FALSE | Z18: FALSE | AA18: FALSE | AB18: FALSE | AC18: FALSE | AD18: FALSE | AE18: FALSE | AF18: FALSE | AG18: FALSE | AI18: =31 -> 31 | AJ18: =COUNTIF(C18:AF18, TRUE) -> 0 | AK18: =AJ18/AI18 -> 0
C19: FALSE | D19: FALSE | E19: FALSE | F19: FALSE | G19: FALSE | H19: FALSE | I19: FALSE | J19: FALSE | K19: FALSE | L19: FALSE | M19: FALSE | N19: FALSE | O19: FALSE | P19: FALSE | Q19: FALSE | R19: FALSE | S19: FALSE | T19: FALSE | U19: FALSE | V19: FALSE | W19: FALSE | X19: FALSE | Y19: FALSE | Z19: FALSE | AA19: FALSE | AB19: FALSE | AC19: FALSE | AD19: FALSE | AE19: FALSE | AF19: FALSE | AG19: FALSE | AI19: =31 -> 31 | AJ19: =COUNTIF(C19:AF19, TRUE) -> 0 | AK19: =AJ19/AI19 -> 0
B21: Progreso | C21: =IFERROR( COUNTIFS(C10:C19,TRUE, $B$10:$B$19,"<>") / COUNTIF($B$10:$B$19,"<>"), 0) -> 0 | D21: =IFERROR( COUNTIFS(D10:D19,TRUE, $B$10:$B$19,"<>") / COUNTIF($B$10:$B$19,"<>"), 0) -> 0 | E21: =IFERROR( COUNTIFS(E10:E19,TRUE, $B$10:$B$19,"<>") / COUNTIF($B$10:$B$19,"<>"), 0) -> 0 | F21: =IFERROR( COUNTIFS(F10:F19,TRUE, $B$10:$B$19,"<>") / COUNTIF($B$10:$B$19,"<>"), 0) -> 0 | G21: =IFERROR( COUNTIFS(G10:G19,TRUE, $B$10:$B$19,"<>") / COUNTIF($B$10:$B$19,"<>"), 0) -> 0 | H21: =IFERROR( COUNTIFS(H10:H19,TRUE, $B$10:$B$19,"<>") / COUNTIF($B$10:$B$19,"<>"), 0) -> 0 | I21: =IFERROR( COUNTIFS(I10:I19,TRUE, $B$10:$B$19,"<>") / COUNTIF($B$10:$B$19,"<>"), 0) -> 0 | J21: =IFERROR( COUNTIFS(J10:J19,TRUE, $B$10:$B$19,"<>") / COUNTIF($B$10:$B$19,"<>"), 0) -> 0 | ... AG21: =IFERROR( COUNTIFS(AG10:AG19,TRUE, $B$10:$B$19,"<>") / COUNTIF($B$10:$B$19,"<>"), 0) -> 0
B22: Hecho | C22: =COUNTIFS(C10:C19,TRUE, $B$10:$B$19,"<>") -> 0 | D22: =COUNTIFS(D10:D19,TRUE, $B$10:$B$19,"<>") -> 0 | E22: =COUNTIFS(E10:E19,TRUE, $B$10:$B$19,"<>") -> 0 | F22: =COUNTIFS(F10:F19,TRUE, $B$10:$B$19,"<>") -> 0 | G22: =COUNTIFS(G10:G19,TRUE, $B$10:$B$19,"<>") -> 0 | H22: =COUNTIFS(H10:H19,TRUE, $B$10:$B$19,"<>") -> 0 | I22: =COUNTIFS(I10:I19,TRUE, $B$10:$B$19,"<>") -> 0 | J22: =COUNTIFS(J10:J19,TRUE, $B$10:$B$19,"<>") -> 0 | ... AG22: =COUNTIFS(AG10:AG19,TRUE, $B$10:$B$19,"<>") -> 0
B23: No Hecho | C23: =COUNTIFS(C10:C19,FALSE, $B$10:$B$19,"<>") -> 0 | D23: =COUNTIFS(D10:D19,FALSE, $B$10:$B$19,"<>") -> 0 | E23: =COUNTIFS(E10:E19,FALSE, $B$10:$B$19,"<>") -> 0 | F23: =COUNTIFS(F10:F19,FALSE, $B$10:$B$19,"<>") -> 0 | G23: =COUNTIFS(G10:G19,FALSE, $B$10:$B$19,"<>") -> 0 | H23: =COUNTIFS(H10:H19,FALSE, $B$10:$B$19,"<>") -> 0 | I23: =COUNTIFS(I10:I19,FALSE, $B$10:$B$19,"<>") -> 0 | J23: =COUNTIFS(J10:J19,FALSE, $B$10:$B$19,"<>") -> 0 | ... AG23: =COUNTIFS(AG10:AG19,FALSE, $B$10:$B$19,"<>") -> 0
C34: Estado mental
B35: Ánimo
B36: Motivación
C37: =(C36+C35)/20 -> 0 | D37: =(D36+D35)/20 -> 0 | E37: =(E36+E35)/20 -> 0 | F37: =(F36+F35)/20 -> 0 | G37: =(G36+G35)/20 -> 0 | H37: =(H36+H35)/20 -> 0 | I37: =(I36+I35)/20 -> 0 | J37: =(J36+J35)/20 -> 0 | ... AG37: =(AG36+AG35)/20 -> 0

Sheet Abr
B3: Abril | J3: Número de hábitos | P3: Hábitos completados | V3: Progreso | AB3: Progreso en %
J4: =COUNTA($B$10:$B$19) -> 0 | P4: =COUNTIF($C$10:$AF$19, TRUE) -> 0 | V4: =AB4 -> 0 | AB4: =IFERROR( P4 / ( COUNTA($B$10:$B$19) * COUNTA($C$10:$AF$10) ), 0) -> 0
B7: Mis hábitos | C7: Semana 1 | J7: Semana 2 | Q7: Semana 3 | X7: Semana 4 | AH7: Análisis
C8: Mié | D8: Jue | E8: Vie | F8: Sáb | G8: Dom | H8: Lun | I8: Mar | J8: Mié | K8: Jue | L8: Vie | M8: Sáb | N8: Dom | O8: Lun | P8: Mar | Q8: Mié | R8: Jue | S8: Vie | T8: Sáb | U8: Dom | V8: Lun | W8: Mar | X8: Mié | Y8: Jue | Z8: Vie | AA8: Sáb | AB8: Dom | AC8: Lun | AD8: Mar | AE8: Mié | AF8: Jue
C9: 1 | D9: 2 | E9: 3 | F9: 4 | G9: 5 | H9: 6 | I9: 7 | J9: 8 | K9: 9 | L9: 10 | M9: 11 | N9: 12 | O9: 13 | P9: 14 | Q9: 15 | R9: 16 | S9: 17 | T9: 18 | U9: 19 | V9: 20 | W9: 21 | X9: 22 | Y9: 23 | Z9: 24 | AA9: 25 | AB9: 26 | AC9: 27 | AD9: 28 | AE9: 29 | AF9: 30 | AH9: Meta | AI9: Actual | AJ9: Progreso
C10: FALSE | D10: FALSE | E10: FALSE | F10: FALSE | G10: FALSE | H10: FALSE | I10: FALSE | J10: FALSE | K10: FALSE | L10: FALSE | M10: FALSE | N10: FALSE | O10: FALSE | P10: FALSE | Q10: FALSE | R10: FALSE | S10: FALSE | T10: FALSE | U10: FALSE | V10: FALSE | W10: FALSE | X10: FALSE | Y10: FALSE | Z10: FALSE | AA10: FALSE | AB10: FALSE | AC10: FALSE | AD10: FALSE | AE10: FALSE | AF10: FALSE | AH10: =30 -> 30 | AI10: =COUNTIF(C10:AF10, TRUE) -> 0 | AJ10: =AI10/AH10 -> 0
C11: FALSE | D11: FALSE | E11: FALSE | F11: FALSE | G11: FALSE | H11: FALSE | I11: FALSE | J11: FALSE | K11: FALSE | L11: FALSE | M11: FALSE | N11: FALSE | O11: FALSE | P11: FALSE | Q11: FALSE | R11: FALSE | S11: FALSE | T11: FALSE | U11: FALSE | V11: FALSE | W11: FALSE | X11: FALSE | Y11: FALSE | Z11: FALSE | AA11: FALSE | AB11: FALSE | AC11: FALSE | AD11: FALSE | AE11: FALSE | AF11: FALSE | AH11: =30 -> 30 | AI11: =COUNTIF(C11:AF11, TRUE) -> 0 | AJ11: =AI11/AH11 -> 0
C12: FALSE | D12: FALSE | E12: FALSE | F12: FALSE | G12: FALSE | H12: FALSE | I12: FALSE | J12: FALSE | K12: FALSE | L12: FALSE | M12: FALSE | N12: FALSE | O12: FALSE | P12: FALSE | Q12: FALSE | R12: FALSE | S12: FALSE | T12: FALSE | U12: FALSE | V12: FALSE | W12: FALSE | X12: FALSE | Y12: FALSE | Z12: FALSE | AA12: FALSE | AB12: FALSE | AC12: FALSE | AD12: FALSE | AE12: FALSE | AF12: FALSE | AH12: =30 -> 30 | AI12: =COUNTIF(C12:AF12, TRUE) -> 0 | AJ12: =AI12/AH12 -> 0
C13: FALSE | D13: FALSE | E13: FALSE | F13: FALSE | G13: FALSE | H13: FALSE | I13: FALSE | J13: FALSE | K13: FALSE | L13: FALSE | M13: FALSE | N13: FALSE | O13: FALSE | P13: FALSE | Q13: FALSE | R13: FALSE | S13: FALSE | T13: FALSE | U13: FALSE | V13: FALSE | W13: FALSE | X13: FALSE | Y13: FALSE | Z13: FALSE | AA13: FALSE | AB13: FALSE | AC13: FALSE | AD13: FALSE | AE13: FALSE | AF13: FALSE | AH13: =30 -> 30 | AI13: =COUNTIF(C13:AF13, TRUE) -> 0 | AJ13: =AI13/AH13 -> 0
C14: FALSE | D14: FALSE | E14: FALSE | F14: FALSE | G14: FALSE | H14: FALSE | I14: FALSE | J14: FALSE | K14: FALSE | L14: FALSE | M14: FALSE | N14: FALSE | O14: FALSE | P14: FALSE | Q14: FALSE | R14: FALSE | S14: FALSE | T14: FALSE | U14: FALSE | V14: FALSE | W14: FALSE | X14: FALSE | Y14: FALSE | Z14: FALSE | AA14: FALSE | AB14: FALSE | AC14: FALSE | AD14: FALSE | AE14: FALSE | AF14: FALSE | AH14: =30 -> 30 | AI14: =COUNTIF(C14:AF14, TRUE) -> 0 | AJ14: =AI14/AH14 -> 0
C15: FALSE | D15: FALSE | E15: FALSE | F15: FALSE | G15: FALSE | H15: FALSE | I15: FALSE | J15: FALSE | K15: FALSE | L15: FALSE | M15: FALSE | N15: FALSE | O15: FALSE | P15: FALSE | Q15: FALSE | R15: FALSE | S15: FALSE | T15: FALSE | U15: FALSE | V15: FALSE | W15: FALSE | X15: FALSE | Y15: FALSE | Z15: FALSE | AA15: FALSE | AB15: FALSE | AC15: FALSE | AD15: FALSE | AE15: FALSE | AF15: FALSE | AH15: =30 -> 30 | AI15: =COUNTIF(C15:AF15, TRUE) -> 0 | AJ15: =AI15/AH15 -> 0
C16: FALSE | D16: FALSE | E16: FALSE | F16: FALSE | G16: FALSE | H16: FALSE | I16: FALSE | J16: FALSE | K16: FALSE | L16: FALSE | M16: FALSE | N16: FALSE | O16: FALSE | P16: FALSE | Q16: FALSE | R16: FALSE | S16: FALSE | T16: FALSE | U16: FALSE | V16: FALSE | W16: FALSE | X16: FALSE | Y16: FALSE | Z16: FALSE | AA16: FALSE | AB16: FALSE | AC16: FALSE | AD16: FALSE | AE16: FALSE | AF16: FALSE | AH16: =30 -> 30 | AI16: =COUNTIF(C16:AF16, TRUE) -> 0 | AJ16: =AI16/AH16 -> 0
C17: FALSE | D17: FALSE | E17: FALSE | F17: FALSE | G17: FALSE | H17: FALSE | I17: FALSE | J17: FALSE | K17: FALSE | L17: FALSE | M17: FALSE | N17: FALSE | O17: FALSE | P17: FALSE | Q17: FALSE | R17: FALSE | S17: FALSE | T17: FALSE | U17: FALSE | V17: FALSE | W17: FALSE | X17: FALSE | Y17: FALSE | Z17: FALSE | AA17: FALSE | AB17: FALSE | AC17: FALSE | AD17: FALSE | AE17: FALSE | AF17: FALSE | AH17: =30 -> 30 | AI17: =COUNTIF(C17:AF17, TRUE) -> 0 | AJ17: =AI17/AH17 -> 0
C18: FALSE | D18: FALSE | E18: FALSE | F18: FALSE | G18: FALSE | H18: FALSE | I18: FALSE | J18: FALSE | K18: FALSE | L18: FALSE | M18: FALSE | N18: FALSE | O18: FALSE | P18: FALSE | Q18: FALSE | R18: FALSE | S18: FALSE | T18: FALSE | U18: FALSE | V18: FALSE | W18: FALSE | X18: FALSE | Y18: FALSE | Z18: FALSE | AA18: FALSE | AB18: FALSE | AC18: FALSE | AD18: FALSE | AE18: FALSE | AF18: FALSE | AH18: =30 -> 30 | AI18: =COUNTIF(C18:AF18, TRUE) -> 0 | AJ18: =AI18/AH18 -> 0
C19: FALSE | D19: FALSE | E19: FALSE | F19: FALSE | G19: FALSE | H19: FALSE | I19: FALSE | J19: FALSE | K19: FALSE | L19: FALSE | M19: FALSE | N19: FALSE | O19: FALSE | P19: FALSE | Q19: FALSE | R19: FALSE | S19: FALSE | T19: FALSE | U19: FALSE | V19: FALSE | W19: FALSE | X19: FALSE | Y19: FALSE | Z19: FALSE | AA19: FALSE | AB19: FALSE | AC19: FALSE | AD19: FALSE | AE19: FALSE | AF19: FALSE | AH19: =30 -> 30 | AI19: =COUNTIF(C19:AF19, TRUE) -> 0 | AJ19: =AI19/AH19 -> 0
B21: Progreso | C21: =IFERROR( COUNTIFS(C10:C19,TRUE, $B$10:$B$19,"<>") / COUNTIF($B$10:$B$19,"<>"), 0) -> 0 | D21: =IFERROR( COUNTIFS(D10:D19,TRUE, $B$10:$B$19,"<>") / COUNTIF($B$10:$B$19,"<>"), 0) -> 0 | E21: =IFERROR( COUNTIFS(E10:E19,TRUE, $B$10:$B$19,"<>") / COUNTIF($B$10:$B$19,"<>"), 0) -> 0 | F21: =IFERROR( COUNTIFS(F10:F19,TRUE, $B$10:$B$19,"<>") / COUNTIF($B$10:$B$19,"<>"), 0) -> 0 | G21: =IFERROR( COUNTIFS(G10:G19,TRUE, $B$10:$B$19,"<>") / COUNTIF($B$10:$B$19,"<>"), 0) -> 0 | H21: =IFERROR( COUNTIFS(H10:H19,TRUE, $B$10:$B$19,"<>") / COUNTIF($B$10:$B$19,"<>"), 0) -> 0 | I21: =IFERROR( COUNTIFS(I10:I19,TRUE, $B$10:$B$19,"<>") / COUNTIF($B$10:$B$19,"<>"), 0) -> 0 | J21: =IFERROR( COUNTIFS(J10:J19,TRUE, $B$10:$B$19,"<>") / COUNTIF($B$10:$B$19,"<>"), 0) -> 0 | ... AF21: =IFERROR( COUNTIFS(AF10:AF19,TRUE, $B$10:$B$19,"<>") / COUNTIF($B$10:$B$19,"<>"), 0) -> 0
B22: Hecho | C22: =COUNTIFS(C10:C19,TRUE, $B$10:$B$19,"<>") -> 0 | D22: =COUNTIFS(D10:D19,TRUE, $B$10:$B$19,"<>") -> 0 | E22: =COUNTIFS(E10:E19,TRUE, $B$10:$B$19,"<>") -> 0 | F22: =COUNTIFS(F10:F19,TRUE, $B$10:$B$19,"<>") -> 0 | G22: =COUNTIFS(G10:G19,TRUE, $B$10:$B$19,"<>") -> 0 | H22: =COUNTIFS(H10:H19,TRUE, $B$10:$B$19,"<>") -> 0 | I22: =COUNTIFS(I10:I19,TRUE, $B$10:$B$19,"<>") -> 0 | J22: =COUNTIFS(J10:J19,TRUE, $B$10:$B$19,"<>") -> 0 | ... AF22: =COUNTIFS(AF10:AF19,TRUE, $B$10:$B$19,"<>") -> 0
B23: No Hecho | C23: =COUNTIFS(C10:C19,FALSE, $B$10:$B$19,"<>") -> 0 | D23: =COUNTIFS(D10:D19,FALSE, $B$10:$B$19,"<>") -> 0 | E23: =COUNTIFS(E10:E19,FALSE, $B$10:$B$19,"<>") -> 0 | F23: =COUNTIFS(F10:F19,FALSE, $B$10:$B$19,"<>") -> 0 | G23: =COUNTIFS(G10:G19,FALSE, $B$10:$B$19,"<>") -> 0 | H23: =COUNTIFS(H10:H19,FALSE, $B$10:$B$19,"<>") -> 0 | I23: =COUNTIFS(I10:I19,FALSE, $B$10:$B$19,"<>") -> 0 | J23: =COUNTIFS(J10:J19,FALSE, $B$10:$B$19,"<>") -> 0 | ... AF23: =COUNTIFS(AF10:AF19,FALSE, $B$10:$B$19,"<>") -> 0
C34: Estado mental
B35: Ánimo
B36: Motivación
C37: =(C36+C35)/20 -> 0 | D37: =(D36+D35)/20 -> 0 | E37: =(E36+E35)/20 -> 0 | F37: =(F36+F35)/20 -> 0 | G37: =(G36+G35)/20 -> 0 | H37: =(H36+H35)/20 -> 0 | I37: =(I36+I35)/20 -> 0 | J37: =(J36+J35)/20 -> 0 | ... AF37: =(AF36+AF35)/20 -> 0

Sheet May
B3: Mayo | J3: Número de hábitos | P3: Hábitos completados | V3: Progreso | AB3: Progreso en %
J4: =COUNTA($B$10:$B$19) -> 0 | P4: =COUNTIF($C$10:$AF$19, TRUE) -> 0 | V4: =AB4 -> 0 | AB4: =IFERROR( P4 / ( COUNTA($B$10:$B$19) * COUNTA($C$10:$AG$10) ), 0) -> 0
B7: Mis hábitos | C7: Semana 1 | J7: Semana 2 | Q7: Semana 3 | X7: Semana 4 | AI7: Análisis
C8: Vie | D8: Sáb | E8: Dom | F8: Lun | G8: Mar | H8: Mié | I8: Jue | J8: Vie | K8: Sáb | L8: Dom | M8: Lun | N8: Mar | O8: Mié | P8: Jue | Q8: Vie | R8: Sáb | S8: Dom | T8: Lun | U8: Mar | V8: Mié | W8: Jue | X8: Vie | Y8: Sáb | Z8: Dom | AA8: Lun | AB8: Mar | AC8: Mié | AD8: Jue | AE8: Vie | AF8: Sáb | AG8: Dom
C9: 1 | D9: 2 | E9: 3 | F9: 4 | G9: 5 | H9: 6 | I9: 7 | J9: 8 | K9: 9 | L9: 10 | M9: 11 | N9: 12 | O9: 13 | P9: 14 | Q9: 15 | R9: 16 | S9: 17 | T9: 18 | U9: 19 | V9: 20 | W9: 21 | X9: 22 | Y9: 23 | Z9: 24 | AA9: 25 | AB9: 26 | AC9: 27 | AD9: 28 | AE9: 29 | AF9: 30 | AG9: 31 | AI9: Meta | AJ9: Actual | AK9: Progreso
C10: FALSE | D10: FALSE | E10: FALSE | F10: FALSE | G10: FALSE | H10: FALSE | I10: FALSE | J10: FALSE | K10: FALSE | L10: FALSE | M10: FALSE | N10: FALSE | O10: FALSE | P10: FALSE | Q10: FALSE | R10: FALSE | S10: FALSE | T10: FALSE | U10: FALSE | V10: FALSE | W10: FALSE | X10: FALSE | Y10: FALSE | Z10: FALSE | AA10: FALSE | AB10: FALSE | AC10: FALSE | AD10: FALSE | AE10: FALSE | AF10: FALSE | AG10: FALSE | AI10: =31 -> 31 | AJ10: =COUNTIF(C10:AF10, TRUE) -> 0 | AK10: =AJ10/AI10 -> 0
C11: FALSE | D11: FALSE | E11: FALSE | F11: FALSE | G11: FALSE | H11: FALSE | I11: FALSE | J11: FALSE | K11: FALSE | L11: FALSE | M11: FALSE | N11: FALSE | O11: FALSE | P11: FALSE | Q11: FALSE | R11: FALSE | S11: FALSE | T11: FALSE | U11: FALSE | V11: FALSE | W11: FALSE | X11: FALSE | Y11: FALSE | Z11: FALSE | AA11: FALSE | AB11: FALSE | AC11: FALSE | AD11: FALSE | AE11: FALSE | AF11: FALSE | AG11: FALSE | AI11: =31 -> 31 | AJ11: =COUNTIF(C11:AF11, TRUE) -> 0 | AK11: =AJ11/AI11 -> 0
C12: FALSE | D12: FALSE | E12: FALSE | F12: FALSE | G12: FALSE | H12: FALSE | I12: FALSE | J12: FALSE | K12: FALSE | L12: FALSE | M12: FALSE | N12: FALSE | O12: FALSE | P12: FALSE | Q12: FALSE | R12: FALSE | S12: FALSE | T12: FALSE | U12: FALSE | V12: FALSE | W12: FALSE | X12: FALSE | Y12: FALSE | Z12: FALSE | AA12: FALSE | AB12: FALSE | AC12: FALSE | AD12: FALSE | AE12: FALSE | AF12: FALSE | AG12: FALSE | AI12: =31 -> 31 | AJ12: =COUNTIF(C12:AF12, TRUE) -> 0 | AK12: =AJ12/AI12 -> 0
C13: FALSE | D13: FALSE | E13: FALSE | F13: FALSE | G13: FALSE | H13: FALSE | I13: FALSE | J13: FALSE | K13: FALSE | L13: FALSE | M13: FALSE | N13: FALSE | O13: FALSE | P13: FALSE | Q13: FALSE | R13: FALSE | S13: FALSE | T13: FALSE | U13: FALSE | V13: FALSE | W13: FALSE | X13: FALSE | Y13: FALSE | Z13: FALSE | AA13: FALSE | AB13: FALSE | AC13: FALSE | AD13: FALSE | AE13: FALSE | AF13: FALSE | AG13: FALSE | AI13: =31 -> 31 | AJ13: =COUNTIF(C13:AF13, TRUE) -> 0 | AK13: =AJ13/AI13 -> 0
C14: FALSE | D14: FALSE | E14: FALSE | F14: FALSE | G14: FALSE | H14: FALSE | I14: FALSE | J14: FALSE | K14: FALSE | L14: FALSE | M14: FALSE | N14: FALSE | O14: FALSE | P14: FALSE | Q14: FALSE | R14: FALSE | S14: FALSE | T14: FALSE | U14: FALSE | V14: FALSE | W14: FALSE | X14: FALSE | Y14: FALSE | Z14: FALSE | AA14: FALSE | AB14: FALSE | AC14: FALSE | AD14: FALSE | AE14: FALSE | AF14: FALSE | AG14: FALSE | AI14: =31 -> 31 | AJ14: =COUNTIF(C14:AF14, TRUE) -> 0 | AK14: =AJ14/AI14 -> 0
C15: FALSE | D15: FALSE | E15: FALSE | F15: FALSE | G15: FALSE | H15: FALSE | I15: FALSE | J15: FALSE | K15: FALSE | L15: FALSE | M15: FALSE | N15: FALSE | O15: FALSE | P15: FALSE | Q15: FALSE | R15: FALSE | S15: FALSE | T15: FALSE | U15: FALSE | V15: FALSE | W15: FALSE | X15: FALSE | Y15: FALSE | Z15: FALSE | AA15: FALSE | AB15: FALSE | AC15: FALSE | AD15: FALSE | AE15: FALSE | AF15: FALSE | AG15: FALSE | AI15: =31 -> 31 | AJ15: =COUNTIF(C15:AF15, TRUE) -> 0 | AK15: =AJ15/AI15 -> 0
C16: FALSE | D16: FALSE | E16: FALSE | F16: FALSE | G16: FALSE | H16: FALSE | I16: FALSE | J16: FALSE | K16: FALSE | L16: FALSE | M16: FALSE | N16: FALSE | O16: FALSE | P16: FALSE | Q16: FALSE | R16: FALSE | S16: FALSE | T16: FALSE | U16: FALSE | V16: FALSE | W16: FALSE | X16: FALSE | Y16: FALSE | Z16: FALSE | AA16: FALSE | AB16: FALSE | AC16: FALSE | AD16: FALSE | AE16: FALSE | AF16: FALSE | AG16: FALSE | AI16: =31 -> 31 | AJ16: =COUNTIF(C16:AF16, TRUE) -> 0 | AK16: =AJ16/AI16 -> 0
C17: FALSE | D17: FALSE | E17: FALSE | F17: FALSE | G17: FALSE | H17: FALSE | I17: FALSE | J17: FALSE | K17: FALSE | L17: FALSE | M17: FALSE | N17: FALSE | O17: FALSE | P17: FALSE | Q17: FALSE | R17: FALSE | S17: FALSE | T17: FALSE | U17: FALSE | V17: FALSE | W17: FALSE | X17: FALSE | Y17: FALSE | Z17: FALSE | AA17: FALSE | AB17: FALSE | AC17: FALSE | AD17: FALSE | AE17: FALSE | AF17: FALSE | AG17: FALSE | AI17: =31 -> 31 | AJ17: =COUNTIF(C17:AF17, TRUE) -> 0 | AK17: =AJ17/AI17 -> 0
C18: FALSE | D18: FALSE | E18: FALSE | F18: FALSE | G18: FALSE | H18: FALSE | I18: FALSE | J18: FALSE | K18: FALSE | L18: FALSE | M18: FALSE | N18: FALSE | O18: FALSE | P18: FALSE | Q18: FALSE | R18: FALSE | S18: FALSE | T18: FALSE | U18: FALSE | V18: FALSE | W18: FALSE | X18: FALSE | Y18: FALSE | Z18: FALSE | AA18: FALSE | AB18: FALSE | AC18: FALSE | AD18: FALSE | AE18: FALSE | AF18: FALSE | AG18: FALSE | AI18: =31 -> 31 | AJ18: =COUNTIF(C18:AF18, TRUE) -> 0 | AK18: =AJ18/AI18 -> 0
C19: FALSE | D19: FALSE | E19: FALSE | F19: FALSE | G19: FALSE | H19: FALSE | I19: FALSE | J19: FALSE | K19: FALSE | L19: FALSE | M19: FALSE | N19: FALSE | O19: FALSE | P19: FALSE | Q19: FALSE | R19: FALSE | S19: FALSE | T19: FALSE | U19: FALSE | V19: FALSE | W19: FALSE | X19: FALSE | Y19: FALSE | Z19: FALSE | AA19: FALSE | AB19: FALSE | AC19: FALSE | AD19: FALSE | AE19: FALSE | AF19: FALSE | AG19: FALSE | AI19: =31 -> 31 | AJ19: =COUNTIF(C19:AF19, TRUE) -> 0 | AK19: =AJ19/AI19 -> 0
B21: Progreso | C21: =IFERROR( COUNTIFS(C10:C19,TRUE, $B$10:$B$19,"<>") / COUNTIF($B$10:$B$19,"<>"), 0) -> 0 | D21: =IFERROR( COUNTIFS(D10:D19,TRUE, $B$10:$B$19,"<>") / COUNTIF($B$10:$B$19,"<>"), 0) -> 0 | E21: =IFERROR( COUNTIFS(E10:E19,TRUE, $B$10:$B$19,"<>") / COUNTIF($B$10:$B$19,"<>"), 0) -> 0 | F21: =IFERROR( COUNTIFS(F10:F19,TRUE, $B$10:$B$19,"<>") / COUNTIF($B$10:$B$19,"<>"), 0) -> 0 | G21: =IFERROR( COUNTIFS(G10:G19,TRUE, $B$10:$B$19,"<>") / COUNTIF($B$10:$B$19,"<>"), 0) -> 0 | H21: =IFERROR( COUNTIFS(H10:H19,TRUE, $B$10:$B$19,"<>") / COUNTIF($B$10:$B$19,"<>"), 0) -> 0 | I21: =IFERROR( COUNTIFS(I10:I19,TRUE, $B$10:$B$19,"<>") / COUNTIF($B$10:$B$19,"<>"), 0) -> 0 | J21: =IFERROR( COUNTIFS(J10:J19,TRUE, $B$10:$B$19,"<>") / COUNTIF($B$10:$B$19,"<>"), 0) -> 0 | ... AG21: =IFERROR( COUNTIFS(AG10:AG19,TRUE, $B$10:$B$19,"<>") / COUNTIF($B$10:$B$19,"<>"), 0) -> 0
B22: Hecho | C22: =COUNTIFS(C10:C19,TRUE, $B$10:$B$19,"<>") -> 0 | D22: =COUNTIFS(D10:D19,TRUE, $B$10:$B$19,"<>") -> 0 | E22: =COUNTIFS(E10:E19,TRUE, $B$10:$B$19,"<>") -> 0 | F22: =COUNTIFS(F10:F19,TRUE, $B$10:$B$19,"<>") -> 0 | G22: =COUNTIFS(G10:G19,TRUE, $B$10:$B$19,"<>") -> 0 | H22: =COUNTIFS(H10:H19,TRUE, $B$10:$B$19,"<>") -> 0 | I22: =COUNTIFS(I10:I19,TRUE, $B$10:$B$19,"<>") -> 0 | J22: =COUNTIFS(J10:J19,TRUE, $B$10:$B$19,"<>") -> 0 | ... AG22: =COUNTIFS(AG10:AG19,TRUE, $B$10:$B$19,"<>") -> 0
B23: No Hecho | C23: =COUNTIFS(C10:C19,FALSE, $B$10:$B$19,"<>") -> 0 | D23: =COUNTIFS(D10:D19,FALSE, $B$10:$B$19,"<>") -> 0 | E23: =COUNTIFS(E10:E19,FALSE, $B$10:$B$19,"<>") -> 0 | F23: =COUNTIFS(F10:F19,FALSE, $B$10:$B$19,"<>") -> 0 | G23: =COUNTIFS(G10:G19,FALSE, $B$10:$B$19,"<>") -> 0 | H23: =COUNTIFS(H10:H19,FALSE, $B$10:$B$19,"<>") -> 0 | I23: =COUNTIFS(I10:I19,FALSE, $B$10:$B$19,"<>") -> 0 | J23: =COUNTIFS(J10:J19,FALSE, $B$10:$B$19,"<>") -> 0 | ... AG23: =COUNTIFS(AG10:AG19,FALSE, $B$10:$B$19,"<>") -> 0
C34: Estado mental
B35: Ánimo
B36: Motivación
C37: =(C36+C35)/20 -> 0 | D37: =(D36+D35)/20 -> 0 | E37: =(E36+E35)/20 -> 0 | F37: =(F36+F35)/20 -> 0 | G37: =(G36+G35)/20 -> 0 | H37: =(H36+H35)/20 -> 0 | I37: =(I36+I35)/20 -> 0 | J37: =(J36+J35)/20 -> 0 | ... AG37: =(AG36+AG35)/20 -> 0

Sheet Jun
B3: Junio | J3: Número de hábitos | P3: Hábitos completados | V3: Progreso | AB3: Progreso en %
J4: =COUNTA($B$10:$B$19) -> 0 | P4: =COUNTIF($C$10:$AF$19, TRUE) -> 0 | V4: =AB4 -> 0 | AB4: =IFERROR( P4 / ( COUNTA($B$10:$B$19) * COUNTA($C$10:$AF$10) ), 0) -> 0
B7: Mis hábitos | C7: Semana 1 | J7: Semana 2 | Q7: Semana 3 | X7: Semana 4 | AH7: Análisis
C8: Lun | D8: Mar | E8: Mié | F8: Jue | G8: Vie | H8: Sáb | I8: Dom | J8: Lun | K8: Mar | L8: Mié | M8: Jue | N8: Vie | O8: Sáb | P8: Dom | Q8: Lun | R8: Mar | S8: Mié | T8: Jue | U8: Vie | V8: Sáb | W8: Dom | X8: Lun | Y8: Mar | Z8: Mié | AA8: Jue | AB8: Vie | AC8: Sáb | AD8: Dom | AE8: Lun | AF8: Mar
C9: 1 | D9: 2 | E9: 3 | F9: 4 | G9: 5 | H9: 6 | I9: 7 | J9: 8 | K9: 9 | L9: 10 | M9: 11 | N9: 12 | O9: 13 | P9: 14 | Q9: 15 | R9: 16 | S9: 17 | T9: 18 | U9: 19 | V9: 20 | W9: 21 | X9: 22 | Y9: 23 | Z9: 24 | AA9: 25 | AB9: 26 | AC9: 27 | AD9: 28 | AE9: 29 | AF9: 30 | AH9: Meta | AI9: Actual | AJ9: Progreso
C10: FALSE | D10: FALSE | E10: FALSE | F10: FALSE | G10: FALSE | H10: FALSE | I10: FALSE | J10: FALSE | K10: FALSE | L10: FALSE | M10: FALSE | N10: FALSE | O10: FALSE | P10: FALSE | Q10: FALSE | R10: FALSE | S10: FALSE | T10: FALSE | U10: FALSE | V10: FALSE | W10: FALSE | X10: FALSE | Y10: FALSE | Z10: FALSE | AA10: FALSE | AB10: FALSE | AC10: FALSE | AD10: FALSE | AE10: FALSE | AF10: FALSE | AH10: =30 -> 30 | AI10: =COUNTIF(C10:AF10, TRUE) -> 0 | AJ10: =AI10/AH10 -> 0
C11: FALSE | D11: FALSE | E11: FALSE | F11: FALSE | G11: FALSE | H11: FALSE | I11: FALSE | J11: FALSE | K11: FALSE | L11: FALSE | M11: FALSE | N11: FALSE | O11: FALSE | P11: FALSE | Q11: FALSE | R11: FALSE | S11: FALSE | T11: FALSE | U11: FALSE | V11: FALSE | W11: FALSE | X11: FALSE | Y11: FALSE | Z11: FALSE | AA11: FALSE | AB11: FALSE | AC11: FALSE | AD11: FALSE | AE11: FALSE | AF11: FALSE | AH11: =30 -> 30 | AI11: =COUNTIF(C11:AF11, TRUE) -> 0 | AJ11: =AI11/AH11 -> 0
C12: FALSE | D12: FALSE | E12: FALSE | F12: FALSE | G12: FALSE | H12: FALSE | I12: FALSE | J12: FALSE | K12: FALSE | L12: FALSE | M12: FALSE | N12: FALSE | O12: FALSE | P12: FALSE | Q12: FALSE | R12: FALSE | S12: FALSE | T12: FALSE | U12: FALSE | V12: FALSE | W12: FALSE | X12: FALSE | Y12: FALSE | Z12: FALSE | AA12: FALSE | AB12: FALSE | AC12: FALSE | AD12: FALSE | AE12: FALSE | AF12: FALSE | AH12: =30 -> 30 | AI12: =COUNTIF(C12:AF12, TRUE) -> 0 | AJ12: =AI12/AH12 -> 0
C13: FALSE | D13: FALSE | E13: FALSE | F13: FALSE | G13: FALSE | H13: FALSE | I13: FALSE | J13: FALSE | K13: FALSE | L13: FALSE | M13: FALSE | N13: FALSE | O13: FALSE | P13: FALSE | Q13: FALSE | R13: FALSE | S13: FALSE | T13: FALSE | U13: FALSE | V13: FALSE | W13: FALSE | X13: FALSE | Y13: FALSE | Z13: FALSE | AA13: FALSE | AB13: FALSE | AC13: FALSE | AD13: FALSE | AE13: FALSE | AF13: FALSE | AH13: =30 -> 30 | AI13: =COUNTIF(C13:AF13, TRUE) -> 0 | AJ13: =AI13/AH13 -> 0
C14: FALSE | D14: FALSE | E14: FALSE | F14: FALSE | G14: FALSE | H14: FALSE | I14: FALSE | J14: FALSE | K14: FALSE | L14: FALSE | M14: FALSE | N14: FALSE | O14: FALSE | P14: FALSE | Q14: FALSE | R14: FALSE | S14: FALSE | T14: FALSE | U14: FALSE | V14: FALSE | W14: FALSE | X14: FALSE | Y14: FALSE | Z14: FALSE | AA14: FALSE | AB14: FALSE | AC14: FALSE | AD14: FALSE | AE14: FALSE | AF14: FALSE | AH14: =30 -> 30 | AI14: =COUNTIF(C14:AF14, TRUE) -> 0 | AJ14: =AI14/AH14 -> 0
C15: FALSE | D15: FALSE | E15: FALSE | F15: FALSE | G15: FALSE | H15: FALSE | I15: FALSE | J15: FALSE | K15: FALSE | L15: FALSE | M15: FALSE | N15: FALSE | O15: FALSE | P15: FALSE | Q15: FALSE | R15: FALSE | S15: FALSE | T15: FALSE | U15: FALSE | V15: FALSE | W15: FALSE | X15: FALSE | Y15: FALSE | Z15: FALSE | AA15: FALSE | AB15: FALSE | AC15: FALSE | AD15: FALSE | AE15: FALSE | AF15: FALSE | AH15: =30 -> 30 | AI15: =COUNTIF(C15:AF15, TRUE) -> 0 | AJ15: =AI15/AH15 -> 0
C16: FALSE | D16: FALSE | E16: FALSE | F16: FALSE | G16: FALSE | H16: FALSE | I16: FALSE | J16: FALSE | K16: FALSE | L16: FALSE | M16: FALSE | N16: FALSE | O16: FALSE | P16: FALSE | Q16: FALSE | R16: FALSE | S16: FALSE | T16: FALSE | U16: FALSE | V16: FALSE | W16: FALSE | X16: FALSE | Y16: FALSE | Z16: FALSE | AA16: FALSE | AB16: FALSE | AC16: FALSE | AD16: FALSE | AE16: FALSE | AF16: FALSE | AH16: =30 -> 30 | AI16: =COUNTIF(C16:AF16, TRUE) -> 0 | AJ16: =AI16/AH16 -> 0
C17: FALSE | D17: FALSE | E17: FALSE | F17: FALSE | G17: FALSE | H17: FALSE | I17: FALSE | J17: FALSE | K17: FALSE | L17: FALSE | M17: FALSE | N17: FALSE | O17: FALSE | P17: FALSE | Q17: FALSE | R17: FALSE | S17: FALSE | T17: FALSE | U17: FALSE | V17: FALSE | W17: FALSE | X17: FALSE | Y17: FALSE | Z17: FALSE | AA17: FALSE | AB17: FALSE | AC17: FALSE | AD17: FALSE | AE17: FALSE | AF17: FALSE | AH17: =30 -> 30 | AI17: =COUNTIF(C17:AF17, TRUE) -> 0 | AJ17: =AI17/AH17 -> 0
C18: FALSE | D18: FALSE | E18: FALSE | F18: FALSE | G18: FALSE | H18: FALSE | I18: FALSE | J18: FALSE | K18: FALSE | L18: FALSE | M18: FALSE | N18: FALSE | O18: FALSE | P18: FALSE | Q18: FALSE | R18: FALSE | S18: FALSE | T18: FALSE | U18: FALSE | V18: FALSE | W18: FALSE | X18: FALSE | Y18: FALSE | Z18: FALSE | AA18: FALSE | AB18: FALSE | AC18: FALSE | AD18: FALSE | AE18: FALSE | AF18: FALSE | AH18: =30 -> 30 | AI18: =COUNTIF(C18:AF18, TRUE) -> 0 | AJ18: =AI18/AH18 -> 0
C19: FALSE | D19: FALSE | E19: FALSE | F19: FALSE | G19: FALSE | H19: FALSE | I19: FALSE | J19: FALSE | K19: FALSE | L19: FALSE | M19: FALSE | N19: FALSE | O19: FALSE | P19: FALSE | Q19: FALSE | R19: FALSE | S19: FALSE | T19: FALSE | U19: FALSE | V19: FALSE | W19: FALSE | X19: FALSE | Y19: FALSE | Z19: FALSE | AA19: FALSE | AB19: FALSE | AC19: FALSE | AD19: FALSE | AE19: FALSE | AF19: FALSE | AH19: =30 -> 30 | AI19: =COUNTIF(C19:AF19, TRUE) -> 0 | AJ19: =AI19/AH19 -> 0
B21: Progreso | C21: =IFERROR( COUNTIFS(C10:C19,TRUE, $B$10:$B$19,"<>") / COUNTIF($B$10:$B$19,"<>"), 0) -> 0 | D21: =IFERROR( COUNTIFS(D10:D19,TRUE, $B$10:$B$19,"<>") / COUNTIF($B$10:$B$19,"<>"), 0) -> 0 | E21: =IFERROR( COUNTIFS(E10:E19,TRUE, $B$10:$B$19,"<>") / COUNTIF($B$10:$B$19,"<>"), 0) -> 0 | F21: =IFERROR( COUNTIFS(F10:F19,TRUE, $B$10:$B$19,"<>") / COUNTIF($B$10:$B$19,"<>"), 0) -> 0 | G21: =IFERROR( COUNTIFS(G10:G19,TRUE, $B$10:$B$19,"<>") / COUNTIF($B$10:$B$19,"<>"), 0) -> 0 | H21: =IFERROR( COUNTIFS(H10:H19,TRUE, $B$10:$B$19,"<>") / COUNTIF($B$10:$B$19,"<>"), 0) -> 0 | I21: =IFERROR( COUNTIFS(I10:I19,TRUE, $B$10:$B$19,"<>") / COUNTIF($B$10:$B$19,"<>"), 0) -> 0 | J21: =IFERROR( COUNTIFS(J10:J19,TRUE, $B$10:$B$19,"<>") / COUNTIF($B$10:$B$19,"<>"), 0) -> 0 | ... AF21: =IFERROR( COUNTIFS(AF10:AF19,TRUE, $B$10:$B$19,"<>") / COUNTIF($B$10:$B$19,"<>"), 0) -> 0
B22: Hecho | C22: =COUNTIFS(C10:C19,TRUE, $B$10:$B$19,"<>") -> 0 | D22: =COUNTIFS(D10:D19,TRUE, $B$10:$B$19,"<>") -> 0 | E22: =COUNTIFS(E10:E19,TRUE, $B$10:$B$19,"<>") -> 0 | F22: =COUNTIFS(F10:F19,TRUE, $B$10:$B$19,"<>") -> 0 | G22: =COUNTIFS(G10:G19,TRUE, $B$10:$B$19,"<>") -> 0 | H22: =COUNTIFS(H10:H19,TRUE, $B$10:$B$19,"<>") -> 0 | I22: =COUNTIFS(I10:I19,TRUE, $B$10:$B$19,"<>") -> 0 | J22: =COUNTIFS(J10:J19,TRUE, $B$10:$B$19,"<>") -> 0 | ... AF22: =COUNTIFS(AF10:AF19,TRUE, $B$10:$B$19,"<>") -> 0
B23: No Hecho | C23: =COUNTIFS(C10:C19,FALSE, $B$10:$B$19,"<>") -> 0 | D23: =COUNTIFS(D10:D19,FALSE, $B$10:$B$19,"<>") -> 0 | E23: =COUNTIFS(E10:E19,FALSE, $B$10:$B$19,"<>") -> 0 | F23: =COUNTIFS(F10:F19,FALSE, $B$10:$B$19,"<>") -> 0 | G23: =COUNTIFS(G10:G19,FALSE, $B$10:$B$19,"<>") -> 0 | H23: =COUNTIFS(H10:H19,FALSE, $B$10:$B$19,"<>") -> 0 | I23: =COUNTIFS(I10:I19,FALSE, $B$10:$B$19,"<>") -> 0 | J23: =COUNTIFS(J10:J19,FALSE, $B$10:$B$19,"<>") -> 0 | ... AF23: =COUNTIFS(AF10:AF19,FALSE, $B$10:$B$19,"<>") -> 0
C34: Estado mental
B35: Ánimo
B36: Motivación
C37: =(C36+C35)/20 -> 0 | D37: =(D36+D35)/20 -> 0 | E37: =(E36+E35)/20 -> 0 | F37: =(F36+F35)/20 -> 0 | G37: =(G36+G35)/20 -> 0 | H37: =(H36+H35)/20 -> 0 | I37: =(I36+I35)/20 -> 0 | J37: =(J36+J35)/20 -> 0 | ... AF37: =(AF36+AF35)/20 -> 0

Sheet Jul
B3: Julio | J3: Número de hábitos | P3: Hábitos completados | V3: Progreso | AB3: Progreso en %
J4: =COUNTA($B$10:$B$19) -> 0 | P4: =COUNTIF($C$10:$AF$19, TRUE) -> 0 | V4: =AB4 -> 0 | AB4: =IFERROR( P4 / ( COUNTA($B$10:$B$19) * COUNTA($C$10:$AG$10) ), 0) -> 0
B7: Mis hábitos | C7: Semana 1 | J7: Semana 2 | Q7: Semana 3 | X7: Semana 4 | AI7: Análisis
C8: Mié | D8: Jue | E8: Vie | F8: Sáb | G8: Dom | H8: Lun | I8: Mar | J8: Mié | K8: Jue | L8: Vie | M8: Sáb | N8: Dom | O8: Lun | P8: Mar | Q8: Mié | R8: Jue | S8: Vie | T8: Sáb | U8: Dom | V8: Lun | W8: Mar | X8: Mié | Y8: Jue | Z8: Vie | AA8: Sáb | AB8: Dom | AC8: Lun | AD8: Mar | AE8: Mié | AF8: Jue | AG8: Vie
C9: 1 | D9: 2 | E9: 3 | F9: 4 | G9: 5 | H9: 6 | I9: 7 | J9: 8 | K9: 9 | L9: 10 | M9: 11 | N9: 12 | O9: 13 | P9: 14 | Q9: 15 | R9: 16 | S9: 17 | T9: 18 | U9: 19 | V9: 20 | W9: 21 | X9: 22 | Y9: 23 | Z9: 24 | AA9: 25 | AB9: 26 | AC9: 27 | AD9: 28 | AE9: 29 | AF9: 30 | AG9: 31 | AI9: Meta | AJ9: Actual | AK9: Progreso
C10: FALSE | D10: FALSE | E10: FALSE | F10: FALSE | G10: FALSE | H10: FALSE | I10: FALSE | J10: FALSE | K10: FALSE | L10: FALSE | M10: FALSE | N10: FALSE | O10: FALSE | P10: FALSE | Q10: FALSE | R10: FALSE | S10: FALSE | T10: FALSE | U10: FALSE | V10: FALSE | W10: FALSE | X10: FALSE | Y10: FALSE | Z10: FALSE | AA10: FALSE | AB10: FALSE | AC10: FALSE | AD10: FALSE | AE10: FALSE | AF10: FALSE | AG10: FALSE | AI10: =31 -> 31 | AJ10: =COUNTIF(C10:AF10, TRUE) -> 0 | AK10: =AJ10/AI10 -> 0
C11: FALSE | D11: FALSE | E11: FALSE | F11: FALSE | G11: FALSE | H11: FALSE | I11: FALSE | J11: FALSE | K11: FALSE | L11: FALSE | M11: FALSE | N11: FALSE | O11: FALSE | P11: FALSE | Q11: FALSE | R11: FALSE | S11: FALSE | T11: FALSE | U11: FALSE | V11: FALSE | W11: FALSE | X11: FALSE | Y11: FALSE | Z11: FALSE | AA11: FALSE | AB11: FALSE | AC11: FALSE | AD11: FALSE | AE11: FALSE | AF11: FALSE | AG11: FALSE | AI11: =31 -> 31 | AJ11: =COUNTIF(C11:AF11, TRUE) -> 0 | AK11: =AJ11/AI11 -> 0
C12: FALSE | D12: FALSE | E12: FALSE | F12: FALSE | G12: FALSE | H12: FALSE | I12: FALSE | J12: FALSE | K12: FALSE | L12: FALSE | M12: FALSE | N12: FALSE | O12: FALSE | P12: FALSE | Q12: FALSE | R12: FALSE | S12: FALSE | T12: FALSE | U12: FALSE | V12: FALSE | W12: FALSE | X12: FALSE | Y12: FALSE | Z12: FALSE | AA12: FALSE | AB12: FALSE | AC12: FALSE | AD12: FALSE | AE12: FALSE | AF12: FALSE | AG12: FALSE | AI12: =31 -> 31 | AJ12: =COUNTIF(C12:AF12, TRUE) -> 0 | AK12: =AJ12/AI12 -> 0
C13: FALSE | D13: FALSE | E13: FALSE | F13: FALSE | G13: FALSE | H13: FALSE | I13: FALSE | J13: FALSE | K13: FALSE | L13: FALSE | M13: FALSE | N13: FALSE | O13: FALSE | P13: FALSE | Q13: FALSE | R13: FALSE | S13: FALSE | T13: FALSE | U13: FALSE | V13: FALSE | W13: FALSE | X13: FALSE | Y13: FALSE | Z13: FALSE | AA13: FALSE | AB13: FALSE | AC13: FALSE | AD13: FALSE | AE13: FALSE | AF13: FALSE | AG13: FALSE | AI13: =31 -> 31 | AJ13: =COUNTIF(C13:AF13, TRUE) -> 0 | AK13: =AJ13/AI13 -> 0
C14: FALSE | D14: FALSE | E14: FALSE | F14: FALSE | G14: FALSE | H14: FALSE | I14: FALSE | J14: FALSE | K14: FALSE | L14: FALSE | M14: FALSE | N14: FALSE | O14: FALSE | P14: FALSE | Q14: FALSE | R14: FALSE | S14: FALSE | T14: FALSE | U14: FALSE | V14: FALSE | W14: FALSE | X14: FALSE | Y14: FALSE | Z14: FALSE | AA14: FALSE | AB14: FALSE | AC14: FALSE | AD14: FALSE | AE14: FALSE | AF14: FALSE | AG14: FALSE | AI14: =31 -> 31 | AJ14: =COUNTIF(C14:AF14, TRUE) -> 0 | AK14: =AJ14/AI14 -> 0
C15: FALSE | D15: FALSE | E15: FALSE | F15: FALSE | G15: FALSE | H15: FALSE | I15: FALSE | J15: FALSE | K15: FALSE | L15: FALSE | M15: FALSE | N15: FALSE | O15: FALSE | P15: FALSE | Q15: FALSE | R15: FALSE | S15: FALSE | T15: FALSE | U15: FALSE | V15: FALSE | W15: FALSE | X15: FALSE | Y15: FALSE | Z15: FALSE | AA15: FALSE | AB15: FALSE | AC15: FALSE | AD15: FALSE | AE15: FALSE | AF15: FALSE | AG15: FALSE | AI15: =31 -> 31 | AJ15: =COUNTIF(C15:AF15, TRUE) -> 0 | AK15: =AJ15/AI15 -> 0
C16: FALSE | D16: FALSE | E16: FALSE | F16: FALSE | G16: FALSE | H16: FALSE | I16: FALSE | J16: FALSE | K16: FALSE | L16: FALSE | M16: FALSE | N16: FALSE | O16: FALSE | P16: FALSE | Q16: FALSE | R16: FALSE | S16: FALSE | T16: FALSE | U16: FALSE | V16: FALSE | W16: FALSE | X16: FALSE | Y16: FALSE | Z16: FALSE | AA16: FALSE | AB16: FALSE | AC16: FALSE | AD16: FALSE | AE16: FALSE | AF16: FALSE | AG16: FALSE | AI16: =31 -> 31 | AJ16: =COUNTIF(C16:AF16, TRUE) -> 0 | AK16: =AJ16/AI16 -> 0
C17: FALSE | D17: FALSE | E17: FALSE | F17: FALSE | G17: FALSE | H17: FALSE | I17: FALSE | J17: FALSE | K17: FALSE | L17: FALSE | M17: FALSE | N17: FALSE | O17: FALSE | P17: FALSE | Q17: FALSE | R17: FALSE | S17: FALSE | T17: FALSE | U17: FALSE | V17: FALSE | W17: FALSE | X17: FALSE | Y17: FALSE | Z17: FALSE | AA17: FALSE | AB17: FALSE | AC17: FALSE | AD17: FALSE | AE17: FALSE | AF17: FALSE | AG17: FALSE | AI17: =31 -> 31 | AJ17: =COUNTIF(C17:AF17, TRUE) -> 0 | AK17: =AJ17/AI17 -> 0
C18: FALSE | D18: FALSE | E18: FALSE | F18: FALSE | G18: FALSE | H18: FALSE | I18: FALSE | J18: FALSE | K18: FALSE | L18: FALSE | M18: FALSE | N18: FALSE | O18: FALSE | P18: FALSE | Q18: FALSE | R18: FALSE | S18: FALSE | T18: FALSE | U18: FALSE | V18: FALSE | W18: FALSE | X18: FALSE | Y18: FALSE | Z18: FALSE | AA18: FALSE | AB18: FALSE | AC18: FALSE | AD18: FALSE | AE18: FALSE | AF18: FALSE | AG18: FALSE | AI18: =31 -> 31 | AJ18: =COUNTIF(C18:AF18, TRUE) -> 0 | AK18: =AJ18/AI18 -> 0
C19: FALSE | D19: FALSE | E19: FALSE | F19: FALSE | G19: FALSE | H19: FALSE | I19: FALSE | J19: FALSE | K19: FALSE | L19: FALSE | M19: FALSE | N19: FALSE | O19: FALSE | P19: FALSE | Q19: FALSE | R19: FALSE | S19: FALSE | T19: FALSE | U19: FALSE | V19: FALSE | W19: FALSE | X19: FALSE | Y19: FALSE | Z19: FALSE | AA19: FALSE | AB19: FALSE | AC19: FALSE | AD19: FALSE | AE19: FALSE | AF19: FALSE | AG19: FALSE | AI19: =31 -> 31 | AJ19: =COUNTIF(C19:AF19, TRUE) -> 0 | AK19: =AJ19/AI19 -> 0
B21: Progreso | C21: =IFERROR( COUNTIFS(C10:C19,TRUE, $B$10:$B$19,"<>") / COUNTIF($B$10:$B$19,"<>"), 0) -> 0 | D21: =IFERROR( COUNTIFS(D10:D19,TRUE, $B$10:$B$19,"<>") / COUNTIF($B$10:$B$19,"<>"), 0) -> 0 | E21: =IFERROR( COUNTIFS(E10:E19,TRUE, $B$10:$B$19,"<>") / COUNTIF($B$10:$B$19,"<>"), 0) -> 0 | F21: =IFERROR( COUNTIFS(F10:F19,TRUE, $B$10:$B$19,"<>") / COUNTIF($B$10:$B$19,"<>"), 0) -> 0 | G21: =IFERROR( COUNTIFS(G10:G19,TRUE, $B$10:$B$19,"<>") / COUNTIF($B$10:$B$19,"<>"), 0) -> 0 | H21: =IFERROR( COUNTIFS(H10:H19,TRUE, $B$10:$B$19,"<>") / COUNTIF($B$10:$B$19,"<>"), 0) -> 0 | I21: =IFERROR( COUNTIFS(I10:I19,TRUE, $B$10:$B$19,"<>") / COUNTIF($B$10:$B$19,"<>"), 0) -> 0 | J21: =IFERROR( COUNTIFS(J10:J19,TRUE, $B$10:$B$19,"<>") / COUNTIF($B$10:$B$19,"<>"), 0) -> 0 | ... AG21: =IFERROR( COUNTIFS(AG10:AG19,TRUE, $B$10:$B$19,"<>") / COUNTIF($B$10:$B$19,"<>"), 0) -> 0
B22: Hecho | C22: =COUNTIFS(C10:C19,TRUE, $B$10:$B$19,"<>") -> 0 | D22: =COUNTIFS(D10:D19,TRUE, $B$10:$B$19,"<>") -> 0 | E22: =COUNTIFS(E10:E19,TRUE, $B$10:$B$19,"<>") -> 0 | F22: =COUNTIFS(F10:F19,TRUE, $B$10:$B$19,"<>") -> 0 | G22: =COUNTIFS(G10:G19,TRUE, $B$10:$B$19,"<>") -> 0 | H22: =COUNTIFS(H10:H19,TRUE, $B$10:$B$19,"<>") -> 0 | I22: =COUNTIFS(I10:I19,TRUE, $B$10:$B$19,"<>") -> 0 | J22: =COUNTIFS(J10:J19,TRUE, $B$10:$B$19,"<>") -> 0 | ... AG22: =COUNTIFS(AG10:AG19,TRUE, $B$10:$B$19,"<>") -> 0
B23: No Hecho | C23: =COUNTIFS(C10:C19,FALSE, $B$10:$B$19,"<>") -> 0 | D23: =COUNTIFS(D10:D19,FALSE, $B$10:$B$19,"<>") -> 0 | E23: =COUNTIFS(E10:E19,FALSE, $B$10:$B$19,"<>") -> 0 | F23: =COUNTIFS(F10:F19,FALSE, $B$10:$B$19,"<>") -> 0 | G23: =COUNTIFS(G10:G19,FALSE, $B$10:$B$19,"<>") -> 0 | H23: =COUNTIFS(H10:H19,FALSE, $B$10:$B$19,"<>") -> 0 | I23: =COUNTIFS(I10:I19,FALSE, $B$10:$B$19,"<>") -> 0 | J23: =COUNTIFS(J10:J19,FALSE, $B$10:$B$19,"<>") -> 0 | ... AG23: =COUNTIFS(AG10:AG19,FALSE, $B$10:$B$19,"<>") -> 0
C34: Estado mental
B35: Ánimo
B36: Motivación
C37: =(C36+C35)/20 -> 0 | D37: =(D36+D35)/20 -> 0 | E37: =(E36+E35)/20 -> 0 | F37: =(F36+F35)/20 -> 0 | G37: =(G36+G35)/20 -> 0 | H37: =(H36+H35)/20 -> 0 | I37: =(I36+I35)/20 -> 0 | J37: =(J36+J35)/20 -> 0 | ... AG37: =(AG36+AG35)/20 -> 0

Sheet Ago
B3: Agosto | J3: Número de hábitos | P3: Hábitos completados | V3: Progreso | AB3: Progreso en %
J4: =COUNTA($B$10:$B$19) -> 0 | P4: =COUNTIF($C$10:$AF$19, TRUE) -> 0 | V4: =AB4 -> 0 | AB4: =IFERROR( P4 / ( COUNTA($B$10:$B$19) * COUNTA($C$10:$AG$10) ), 0) -> 0
B7: Mis hábitos | C7: Semana 1 | J7: Semana 2 | Q7: Semana 3 | X7: Semana 4 | AI7: Análisis
C8: Sáb | D8: Dom | E8: Lun | F8: Mar | G8: Mié | H8: Jue | I8: Vie | J8: Sáb | K8: Dom | L8: Lun | M8: Mar | N8: Mié | O8: Jue | P8: Vie | Q8: Sáb | R8: Dom | S8: Lun | T8: Mar | U8: Mié | V8: Jue | W8: Vie | X8: Sáb | Y8: Dom | Z8: Lun | AA8: Mar | AB8: Mié | AC8: Jue | AD8: Vie | AE8: Sáb | AF8: Dom | AG8: Lun
C9: 1 | D9: 2 | E9: 3 | F9: 4 | G9: 5 | H9: 6 | I9: 7 | J9: 8 | K9: 9 | L9: 10 | M9: 11 | N9: 12 | O9: 13 | P9: 14 | Q9: 15 | R9: 16 | S9: 17 | T9: 18 | U9: 19 | V9: 20 | W9: 21 | X9: 22 | Y9: 23 | Z9: 24 | AA9: 25 | AB9: 26 | AC9: 27 | AD9: 28 | AE9: 29 | AF9: 30 | AG9: 31 | AI9: Meta | AJ9: Actual | AK9: Progreso
C10: FALSE | D10: FALSE | E10: FALSE | F10: FALSE | G10: FALSE | H10: FALSE | I10: FALSE | J10: FALSE | K10: FALSE | L10: FALSE | M10: FALSE | N10: FALSE | O10: FALSE | P10: FALSE | Q10: FALSE | R10: FALSE | S10: FALSE | T10: FALSE | U10: FALSE | V10: FALSE | W10: FALSE | X10: FALSE | Y10: FALSE | Z10: FALSE | AA10: FALSE | AB10: FALSE | AC10: FALSE | AD10: FALSE | AE10: FALSE | AF10: FALSE | AG10: FALSE | AI10: =31 -> 31 | AJ10: =COUNTIF(C10:AF10, TRUE) -> 0 | AK10: =AJ10/AI10 -> 0
C11: FALSE | D11: FALSE | E11: FALSE | F11: FALSE | G11: FALSE | H11: FALSE | I11: FALSE | J11: FALSE | K11: FALSE | L11: FALSE | M11: FALSE | N11: FALSE | O11: FALSE | P11: FALSE | Q11: FALSE | R11: FALSE | S11: FALSE | T11: FALSE | U11: FALSE | V11: FALSE | W11: FALSE | X11: FALSE | Y11: FALSE | Z11: FALSE | AA11: FALSE | AB11: FALSE | AC11: FALSE | AD11: FALSE | AE11: FALSE | AF11: FALSE | AG11: FALSE | AI11: =31 -> 31 | AJ11: =COUNTIF(C11:AF11, TRUE) -> 0 | AK11: =AJ11/AI11 -> 0
C12: FALSE | D12: FALSE | E12: FALSE | F12: FALSE | G12: FALSE | H12: FALSE | I12: FALSE | J12: FALSE | K12: FALSE | L12: FALSE | M12: FALSE | N12: FALSE | O12: FALSE | P12: FALSE | Q12: FALSE | R12: FALSE | S12: FALSE | T12: FALSE | U12: FALSE | V12: FALSE | W12: FALSE | X12: FALSE | Y12: FALSE | Z12: FALSE | AA12: FALSE | AB12: FALSE | AC12: FALSE | AD12: FALSE | AE12: FALSE | AF12: FALSE | AG12: FALSE | AI12: =31 -> 31 | AJ12: =COUNTIF(C12:AF12, TRUE) -> 0 | AK12: =AJ12/AI12 -> 0
C13: FALSE | D13: FALSE | E13: FALSE | F13: FALSE | G13: FALSE | H13: FALSE | I13: FALSE | J13: FALSE | K13: FALSE | L13: FALSE | M13: FALSE | N13: FALSE | O13: FALSE | P13: FALSE | Q13: FALSE | R13: FALSE | S13: FALSE | T13: FALSE | U13: FALSE | V13: FALSE | W13: FALSE | X13: FALSE | Y13: FALSE | Z13: FALSE | AA13: FALSE | AB13: FALSE | AC13: FALSE | AD13: FALSE | AE13: FALSE | AF13: FALSE | AG13: FALSE | AI13: =31 -> 31 | AJ13: =COUNTIF(C13:AF13, TRUE) -> 0 | AK13: =AJ13/AI13 -> 0
C14: FALSE | D14: FALSE | E14: FALSE | F14: FALSE | G14: FALSE | H14: FALSE | I14: FALSE | J14: FALSE | K14: FALSE | L14: FALSE | M14: FALSE | N14: FALSE | O14: FALSE | P14: FALSE | Q14: FALSE | R14: FALSE | S14: FALSE | T14: FALSE | U14: FALSE | V14: FALSE | W14: FALSE | X14: FALSE | Y14: FALSE | Z14: FALSE | AA14: FALSE | AB14: FALSE | AC14: FALSE | AD14: FALSE | AE14: FALSE | AF14: FALSE | AG14: FALSE | AI14: =31 -> 31 | AJ14: =COUNTIF(C14:AF14, TRUE) -> 0 | AK14: =AJ14/AI14 -> 0
C15: FALSE | D15: FALSE | E15: FALSE | F15: FALSE | G15: FALSE | H15: FALSE | I15: FALSE | J15: FALSE | K15: FALSE | L15: FALSE | M15: FALSE | N15: FALSE | O15: FALSE | P15: FALSE | Q15: FALSE | R15: FALSE | S15: FALSE | T15: FALSE | U15: FALSE | V15: FALSE | W15: FALSE | X15: FALSE | Y15: FALSE | Z15: FALSE | AA15: FALSE | AB15: FALSE | AC15: FALSE | AD15: FALSE | AE15: FALSE | AF15: FALSE | AG15: FALSE | AI15: =31 -> 31 | AJ15: =COUNTIF(C15:AF15, TRUE) -> 0 | AK15: =AJ15/AI15 -> 0
C16: FALSE | D16: FALSE | E16: FALSE | F16: FALSE | G16: FALSE | H16: FALSE | I16: FALSE | J16: FALSE | K16: FALSE | L16: FALSE | M16: FALSE | N16: FALSE | O16: FALSE | P16: FALSE | Q16: FALSE | R16: FALSE | S16: FALSE | T16: FALSE | U16: FALSE | V16: FALSE | W16: FALSE | X16: FALSE | Y16: FALSE | Z16: FALSE | AA16: FALSE | AB16: FALSE | AC16: FALSE | AD16: FALSE | AE16: FALSE | AF16: FALSE | AG16: FALSE | AI16: =31 -> 31 | AJ16: =COUNTIF(C16:AF16, TRUE) -> 0 | AK16: =AJ16/AI16 -> 0
C17: FALSE | D17: FALSE | E17: FALSE | F17: FALSE | G17: FALSE | H17: FALSE | I17: FALSE | J17: FALSE | K17: FALSE | L17: FALSE | M17: FALSE | N17: FALSE | O17: FALSE | P17: FALSE | Q17: FALSE | R17: FALSE | S17: FALSE | T17: FALSE | U17: FALSE | V17: FALSE | W17: FALSE | X17: FALSE | Y17: FALSE | Z17: FALSE | AA17: FALSE | AB17: FALSE | AC17: FALSE | AD17: FALSE | AE17: FALSE | AF17: FALSE | AG17: FALSE | AI17: =31 -> 31 | AJ17: =COUNTIF(C17:AF17, TRUE) -> 0 | AK17: =AJ17/AI17 -> 0
C18: FALSE | D18: FALSE | E18: FALSE | F18: FALSE | G18: FALSE | H18: FALSE | I18: FALSE | J18: FALSE | K18: FALSE | L18: FALSE | M18: FALSE | N18: FALSE | O18: FALSE | P18: FALSE | Q18: FALSE | R18: FALSE | S18: FALSE | T18: FALSE | U18: FALSE | V18: FALSE | W18: FALSE | X18: FALSE | Y18: FALSE | Z18: FALSE | AA18: FALSE | AB18: FALSE | AC18: FALSE | AD18: FALSE | AE18: FALSE | AF18: FALSE | AG18: FALSE | AI18: =31 -> 31 | AJ18: =COUNTIF(C18:AF18, TRUE) -> 0 | AK18: =AJ18/AI18 -> 0
C19: FALSE | D19: FALSE | E19: FALSE | F19: FALSE | G19: FALSE | H19: FALSE | I19: FALSE | J19: FALSE | K19: FALSE | L19: FALSE | M19: FALSE | N19: FALSE | O19: FALSE | P19: FALSE | Q19: FALSE | R19: FALSE | S19: FALSE | T19: FALSE | U19: FALSE | V19: FALSE | W19: FALSE | X19: FALSE | Y19: FALSE | Z19: FALSE | AA19: FALSE | AB19: FALSE | AC19: FALSE | AD19: FALSE | AE19: FALSE | AF19: FALSE | AG19: FALSE | AI19: =31 -> 31 | AJ19: =COUNTIF(C19:AF19, TRUE) -> 0 | AK19: =AJ19/AI19 -> 0
B21: Progreso | C21: =IFERROR( COUNTIFS(C10:C19,TRUE, $B$10:$B$19,"<>") / COUNTIF($B$10:$B$19,"<>"), 0) -> 0 | D21: =IFERROR( COUNTIFS(D10:D19,TRUE, $B$10:$B$19,"<>") / COUNTIF($B$10:$B$19,"<>"), 0) -> 0 | E21: =IFERROR( COUNTIFS(E10:E19,TRUE, $B$10:$B$19,"<>") / COUNTIF($B$10:$B$19,"<>"), 0) -> 0 | F21: =IFERROR( COUNTIFS(F10:F19,TRUE, $B$10:$B$19,"<>") / COUNTIF($B$10:$B$19,"<>"), 0) -> 0 | G21: =IFERROR( COUNTIFS(G10:G19,TRUE, $B$10:$B$19,"<>") / COUNTIF($B$10:$B$19,"<>"), 0) -> 0 | H21: =IFERROR( COUNTIFS(H10:H19,TRUE, $B$10:$B$19,"<>") / COUNTIF($B$10:$B$19,"<>"), 0) -> 0 | I21: =IFERROR( COUNTIFS(I10:I19,TRUE, $B$10:$B$19,"<>") / COUNTIF($B$10:$B$19,"<>"), 0) -> 0 | J21: =IFERROR( COUNTIFS(J10:J19,TRUE, $B$10:$B$19,"<>") / COUNTIF($B$10:$B$19,"<>"), 0) -> 0 | ... AG21: =IFERROR( COUNTIFS(AG10:AG19,TRUE, $B$10:$B$19,"<>") / COUNTIF($B$10:$B$19,"<>"), 0) -> 0
B22: Hecho | C22: =COUNTIFS(C10:C19,TRUE, $B$10:$B$19,"<>") -> 0 | D22: =COUNTIFS(D10:D19,TRUE, $B$10:$B$19,"<>") -> 0 | E22: =COUNTIFS(E10:E19,TRUE, $B$10:$B$19,"<>") -> 0 | F22: =COUNTIFS(F10:F19,TRUE, $B$10:$B$19,"<>") -> 0 | G22: =COUNTIFS(G10:G19,TRUE, $B$10:$B$19,"<>") -> 0 | H22: =COUNTIFS(H10:H19,TRUE, $B$10:$B$19,"<>") -> 0 | I22: =COUNTIFS(I10:I19,TRUE, $B$10:$B$19,"<>") -> 0 | J22: =COUNTIFS(J10:J19,TRUE, $B$10:$B$19,"<>") -> 0 | ... AG22: =COUNTIFS(AG10:AG19,TRUE, $B$10:$B$19,"<>") -> 0
B23: No Hecho | C23: =COUNTIFS(C10:C19,FALSE, $B$10:$B$19,"<>") -> 0 | D23: =COUNTIFS(D10:D19,FALSE, $B$10:$B$19,"<>") -> 0 | E23: =COUNTIFS(E10:E19,FALSE, $B$10:$B$19,"<>") -> 0 | F23: =COUNTIFS(F10:F19,FALSE, $B$10:$B$19,"<>") -> 0 | G23: =COUNTIFS(G10:G19,FALSE, $B$10:$B$19,"<>") -> 0 | H23: =COUNTIFS(H10:H19,FALSE, $B$10:$B$19,"<>") -> 0 | I23: =COUNTIFS(I10:I19,FALSE, $B$10:$B$19,"<>") -> 0 | J23: =COUNTIFS(J10:J19,FALSE, $B$10:$B$19,"<>") -> 0 | ... AG23: =COUNTIFS(AG10:AG19,FALSE, $B$10:$B$19,"<>") -> 0
C34: Estado mental
B35: Ánimo
B36: Motivación
C37: =(C36+C35)/20 -> 0 | D37: =(D36+D35)/20 -> 0 | E37: =(E36+E35)/20 -> 0 | F37: =(F36+F35)/20 -> 0 | G37: =(G36+G35)/20 -> 0 | H37: =(H36+H35)/20 -> 0 | I37: =(I36+I35)/20 -> 0 | J37: =(J36+J35)/20 -> 0 | ... AG37: =(AG36+AG35)/20 -> 0

Sheet Sep
B3: Septiembre | J3: Número de hábitos | P3: Hábitos completados | V3: Progreso | AB3: Progreso en %
J4: =COUNTA($B$10:$B$19) -> 0 | P4: =COUNTIF($C$10:$AF$19, TRUE) -> 0 | V4: =AB4 -> 0 | AB4: =IFERROR( P4 / ( COUNTA($B$10:$B$19) * COUNTA($C$10:$AF$10) ), 0) -> 0
B7: Mis hábitos | C7: Semana 1 | J7: Semana 2 | Q7: Semana 3 | X7: Semana 4 | AH7: Análisis
C8: Mar | D8: Mié | E8: Jue | F8: Vie | G8: Sáb | H8: Dom | I8: Lun | J8: Mar | K8: Mié | L8: Jue | M8: Vie | N8: Sáb | O8: Dom | P8: Lun | Q8: Mar | R8: Mié | S8: Jue | T8: Vie | U8: Sáb | V8: Dom | W8: Lun | X8: Mar | Y8: Mié | Z8: Jue | AA8: Vie | AB8: Sáb | AC8: Dom | AD8: Lun | AE8: Mar | AF8: Mié
C9: 1 | D9: 2 | E9: 3 | F9: 4 | G9: 5 | H9: 6 | I9: 7 | J9: 8 | K9: 9 | L9: 10 | M9: 11 | N9: 12 | O9: 13 | P9: 14 | Q9: 15 | R9: 16 | S9: 17 | T9: 18 | U9: 19 | V9: 20 | W9: 21 | X9: 22 | Y9: 23 | Z9: 24 | AA9: 25 | AB9: 26 | AC9: 27 | AD9: 28 | AE9: 29 | AF9: 30 | AH9: Meta | AI9: Actual | AJ9: Progreso
C10: FALSE | D10: FALSE | E10: FALSE | F10: FALSE | G10: FALSE | H10: FALSE | I10: FALSE | J10: FALSE | K10: FALSE | L10: FALSE | M10: FALSE | N10: FALSE | O10: FALSE | P10: FALSE | Q10: FALSE | R10: FALSE | S10: FALSE | T10: FALSE | U10: FALSE | V10: FALSE | W10: FALSE | X10: FALSE | Y10: FALSE | Z10: FALSE | AA10: FALSE | AB10: FALSE | AC10: FALSE | AD10: FALSE | AE10: FALSE | AF10: FALSE | AH10: =30 -> 30 | AI10: =COUNTIF(C10:AF10, TRUE) -> 0 | AJ10: =AI10/AH10 -> 0
C11: FALSE | D11: FALSE | E11: FALSE | F11: FALSE | G11: FALSE | H11: FALSE | I11: FALSE | J11: FALSE | K11: FALSE | L11: FALSE | M11: FALSE | N11: FALSE | O11: FALSE | P11: FALSE | Q11: FALSE | R11: FALSE | S11: FALSE | T11: FALSE | U11: FALSE | V11: FALSE | W11: FALSE | X11: FALSE | Y11: FALSE | Z11: FALSE | AA11: FALSE | AB11: FALSE | AC11: FALSE | AD11: FALSE | AE11: FALSE | AF11: FALSE | AH11: =30 -> 30 | AI11: =COUNTIF(C11:AF11, TRUE) -> 0 | AJ11: =AI11/AH11 -> 0
C12: FALSE | D12: FALSE | E12: FALSE | F12: FALSE | G12: FALSE | H12: FALSE | I12: FALSE | J12: FALSE | K12: FALSE | L12: FALSE | M12: FALSE | N12: FALSE | O12: FALSE | P12: FALSE | Q12: FALSE | R12: FALSE | S12: FALSE | T12: FALSE | U12: FALSE | V12: FALSE | W12: FALSE | X12: FALSE | Y12: FALSE | Z12: FALSE | AA12: FALSE | AB12: FALSE | AC12: FALSE | AD12: FALSE | AE12: FALSE | AF12: FALSE | AH12: =30 -> 30 | AI12: =COUNTIF(C12:AF12, TRUE) -> 0 | AJ12: =AI12/AH12 -> 0
C13: FALSE | D13: FALSE | E13: FALSE | F13: FALSE | G13: FALSE | H13: FALSE | I13: FALSE | J13: FALSE | K13: FALSE | L13: FALSE | M13: FALSE | N13: FALSE | O13: FALSE | P13: FALSE | Q13: FALSE | R13: FALSE | S13: FALSE | T13: FALSE | U13: FALSE | V13: FALSE | W13: FALSE | X13: FALSE | Y13: FALSE | Z13: FALSE | AA13: FALSE | AB13: FALSE | AC13: FALSE | AD13: FALSE | AE13: FALSE | AF13: FALSE | AH13: =30 -> 30 | AI13: =COUNTIF(C13:AF13, TRUE) -> 0 | AJ13: =AI13/AH13 -> 0
C14: FALSE | D14: FALSE | E14: FALSE | F14: FALSE | G14: FALSE | H14: FALSE | I14: FALSE | J14: FALSE | K14: FALSE | L14: FALSE | M14: FALSE | N14: FALSE | O14: FALSE | P14: FALSE | Q14: FALSE | R14: FALSE | S14: FALSE | T14: FALSE | U14: FALSE | V14: FALSE | W14: FALSE | X14: FALSE | Y14: FALSE | Z14: FALSE | AA14: FALSE | AB14: FALSE | AC14: FALSE | AD14: FALSE | AE14: FALSE | AF14: FALSE | AH14: =30 -> 30 | AI14: =COUNTIF(C14:AF14, TRUE) -> 0 | AJ14: =AI14/AH14 -> 0
C15: FALSE | D15: FALSE | E15: FALSE | F15: FALSE | G15: FALSE | H15: FALSE | I15: FALSE | J15: FALSE | K15: FALSE | L15: FALSE | M15: FALSE | N15: FALSE | O15: FALSE | P15: FALSE | Q15: FALSE | R15: FALSE | S15: FALSE | T15: FALSE | U15: FALSE | V15: FALSE | W15: FALSE | X15: FALSE | Y15: FALSE | Z15: FALSE | AA15: FALSE | AB15: FALSE | AC15: FALSE | AD15: FALSE | AE15: FALSE | AF15: FALSE | AH15: =30 -> 30 | AI15: =COUNTIF(C15:AF15, TRUE) -> 0 | AJ15: =AI15/AH15 -> 0
C16: FALSE | D16: FALSE | E16: FALSE | F16: FALSE | G16: FALSE | H16: FALSE | I16: FALSE | J16: FALSE | K16: FALSE | L16: FALSE | M16: FALSE | N16: FALSE | O16: FALSE | P16: FALSE | Q16: FALSE | R16: FALSE | S16: FALSE | T16: FALSE | U16: FALSE | V16: FALSE | W16: FALSE | X16: FALSE | Y16: FALSE | Z16: FALSE | AA16: FALSE | AB16: FALSE | AC16: FALSE | AD16: FALSE | AE16: FALSE | AF16: FALSE | AH16: =30 -> 30 | AI16: =COUNTIF(C16:AF16, TRUE) -> 0 | AJ16: =AI16/AH16 -> 0
C17: FALSE | D17: FALSE | E17: FALSE | F17: FALSE | G17: FALSE | H17: FALSE | I17: FALSE | J17: FALSE | K17: FALSE | L17: FALSE | M17: FALSE | N17: FALSE | O17: FALSE | P17: FALSE | Q17: FALSE | R17: FALSE | S17: FALSE | T17: FALSE | U17: FALSE | V17: FALSE | W17: FALSE | X17: FALSE | Y17: FALSE | Z17: FALSE | AA17: FALSE | AB17: FALSE | AC17: FALSE | AD17: FALSE | AE17: FALSE | AF17: FALSE | AH17: =30 -> 30 | AI17: =COUNTIF(C17:AF17, TRUE) -> 0 | AJ17: =AI17/AH17 -> 0
C18: FALSE | D18: FALSE | E18: FALSE | F18: FALSE | G18: FALSE | H18: FALSE | I18: FALSE | J18: FALSE | K18: FALSE | L18: FALSE | M18: FALSE | N18: FALSE | O18: FALSE | P18: FALSE | Q18: FALSE | R18: FALSE | S18: FALSE | T18: FALSE | U18: FALSE | V18: FALSE | W18: FALSE | X18: FALSE | Y18: FALSE | Z18: FALSE | AA18: FALSE | AB18: FALSE | AC18: FALSE | AD18: FALSE | AE18: FALSE | AF18: FALSE | AH18: =30 -> 30 | AI18: =COUNTIF(C18:AF18, TRUE) -> 0 | AJ18: =AI18/AH18 -> 0
C19: FALSE | D19: FALSE | E19: FALSE | F19: FALSE | G19: FALSE | H19: FALSE | I19: FALSE | J19: FALSE | K19: FALSE | L19: FALSE | M19: FALSE | N19: FALSE | O19: FALSE | P19: FALSE | Q19: FALSE | R19: FALSE | S19: FALSE | T19: FALSE | U19: FALSE | V19: FALSE | W19: FALSE | X19: FALSE | Y19: FALSE | Z19: FALSE | AA19: FALSE | AB19: FALSE | AC19: FALSE | AD19: FALSE | AE19: FALSE | AF19: FALSE | AH19: =30 -> 30 | AI19: =COUNTIF(C19:AF19, TRUE) -> 0 | AJ19: =AI19/AH19 -> 0
B21: Progreso | C21: =IFERROR( COUNTIFS(C10:C19,TRUE, $B$10:$B$19,"<>") / COUNTIF($B$10:$B$19,"<>"), 0) -> 0 | D21: =IFERROR( COUNTIFS(D10:D19,TRUE, $B$10:$B$19,"<>") / COUNTIF($B$10:$B$19,"<>"), 0) -> 0 | E21: =IFERROR( COUNTIFS(E10:E19,TRUE, $B$10:$B$19,"<>") / COUNTIF($B$10:$B$19,"<>"), 0) -> 0 | F21: =IFERROR( COUNTIFS(F10:F19,TRUE, $B$10:$B$19,"<>") / COUNTIF($B$10:$B$19,"<>"), 0) -> 0 | G21: =IFERROR( COUNTIFS(G10:G19,TRUE, $B$10:$B$19,"<>") / COUNTIF($B$10:$B$19,"<>"), 0) -> 0 | H21: =IFERROR( COUNTIFS(H10:H19,TRUE, $B$10:$B$19,"<>") / COUNTIF($B$10:$B$19,"<>"), 0) -> 0 | I21: =IFERROR( COUNTIFS(I10:I19,TRUE, $B$10:$B$19,"<>") / COUNTIF($B$10:$B$19,"<>"), 0) -> 0 | J21: =IFERROR( COUNTIFS(J10:J19,TRUE, $B$10:$B$19,"<>") / COUNTIF($B$10:$B$19,"<>"), 0) -> 0 | ... AF21: =IFERROR( COUNTIFS(AF10:AF19,TRUE, $B$10:$B$19,"<>") / COUNTIF($B$10:$B$19,"<>"), 0) -> 0
B22: Hecho | C22: =COUNTIFS(C10:C19,TRUE, $B$10:$B$19,"<>") -> 0 | D22: =COUNTIFS(D10:D19,TRUE, $B$10:$B$19,"<>") -> 0 | E22: =COUNTIFS(E10:E19,TRUE, $B$10:$B$19,"<>") -> 0 | F22: =COUNTIFS(F10:F19,TRUE, $B$10:$B$19,"<>") -> 0 | G22: =COUNTIFS(G10:G19,TRUE, $B$10:$B$19,"<>") -> 0 | H22: =COUNTIFS(H10:H19,TRUE, $B$10:$B$19,"<>") -> 0 | I22: =COUNTIFS(I10:I19,TRUE, $B$10:$B$19,"<>") -> 0 | J22: =COUNTIFS(J10:J19,TRUE, $B$10:$B$19,"<>") -> 0 | ... AF22: =COUNTIFS(AF10:AF19,TRUE, $B$10:$B$19,"<>") -> 0
B23: No Hecho | C23: =COUNTIFS(C10:C19,FALSE, $B$10:$B$19,"<>") -> 0 | D23: =COUNTIFS(D10:D19,FALSE, $B$10:$B$19,"<>") -> 0 | E23: =COUNTIFS(E10:E19,FALSE, $B$10:$B$19,"<>") -> 0 | F23: =COUNTIFS(F10:F19,FALSE, $B$10:$B$19,"<>") -> 0 | G23: =COUNTIFS(G10:G19,FALSE, $B$10:$B$19,"<>") -> 0 | H23: =COUNTIFS(H10:H19,FALSE, $B$10:$B$19,"<>") -> 0 | I23: =COUNTIFS(I10:I19,FALSE, $B$10:$B$19,"<>") -> 0 | J23: =COUNTIFS(J10:J19,FALSE, $B$10:$B$19,"<>") -> 0 | ... AF23: =COUNTIFS(AF10:AF19,FALSE, $B$10:$B$19,"<>") -> 0
C34: Estado mental
B35: Ánimo
B36: Motivación
C37: =(C36+C35)/20 -> 0 | D37: =(D36+D35)/20 -> 0 | E37: =(E36+E35)/20 -> 0 | F37: =(F36+F35)/20 -> 0 | G37: =(G36+G35)/20 -> 0 | H37: =(H36+H35)/20 -> 0 | I37: =(I36+I35)/20 -> 0 | J37: =(J36+J35)/20 -> 0 | ... AF37: =(AF36+AF35)/20 -> 0

Sheet Oct
B3: Octubre | J3: Número de hábitos | P3: Hábitos completados | V3: Progreso | AB3: Progreso en %
J4: =COUNTA($B$10:$B$19) -> 0 | P4: =COUNTIF($C$10:$AF$19, TRUE) -> 0 | V4: =AB4 -> 0 | AB4: =IFERROR( P4 / ( COUNTA($B$10:$B$19) * COUNTA($C$10:$AG$10) ), 0) -> 0
B7: Mis hábitos | C7: Semana 1 | J7: Semana 2 | Q7: Semana 3 | X7: Semana 4 | AI7: Análisis
C8: Jue | D8: Vie | E8: Sáb | F8: Dom | G8: Lun | H8: Mar | I8: Mié | J8: Jue | K8: Vie | L8: Sáb | M8: Dom | N8: Lun | O8: Mar | P8: Mié | Q8: Jue | R8: Vie | S8: Sáb | T8: Dom | U8: Lun | V8: Mar | W8: Mié | X8: Jue | Y8: Vie | Z8: Sáb | AA8: Dom | AB8: Lun | AC8: Mar | AD8: Mié | AE8: Jue | AF8: Vie | AG8: Sáb
C9: 1 | D9: 2 | E9: 3 | F9: 4 | G9: 5 | H9: 6 | I9: 7 | J9: 8 | K9: 9 | L9: 10 | M9: 11 | N9: 12 | O9: 13 | P9: 14 | Q9: 15 | R9: 16 | S9: 17 | T9: 18 | U9: 19 | V9: 20 | W9: 21 | X9: 22 | Y9: 23 | Z9: 24 | AA9: 25 | AB9: 26 | AC9: 27 | AD9: 28 | AE9: 29 | AF9: 30 | AG9: 31 | AI9: Meta | AJ9: Actual | AK9: Progreso
C10: FALSE | D10: FALSE | E10: FALSE | F10: FALSE | G10: FALSE | H10: FALSE | I10: FALSE | J10: FALSE | K10: FALSE | L10: FALSE | M10: FALSE | N10: FALSE | O10: FALSE | P10: FALSE | Q10: FALSE | R10: FALSE | S10: FALSE | T10: FALSE | U10: FALSE | V10: FALSE | W10: FALSE | X10: FALSE | Y10: FALSE | Z10: FALSE | AA10: FALSE | AB10: FALSE | AC10: FALSE | AD10: FALSE | AE10: FALSE | AF10: FALSE | AG10: FALSE | AI10: =31 -> 31 | AJ10: =COUNTIF(C10:AF10, TRUE) -> 0 | AK10: =AJ10/AI10 -> 0
C11: FALSE | D11: FALSE | E11: FALSE | F11: FALSE | G11: FALSE | H11: FALSE | I11: FALSE | J11: FALSE | K11: FALSE | L11: FALSE | M11: FALSE | N11: FALSE | O11: FALSE | P11: FALSE | Q11: FALSE | R11: FALSE | S11: FALSE | T11: FALSE | U11: FALSE | V11: FALSE | W11: FALSE | X11: FALSE | Y11: FALSE | Z11: FALSE | AA11: FALSE | AB11: FALSE | AC11: FALSE | AD11: FALSE | AE11: FALSE | AF11: FALSE | AG11: FALSE | AI11: =31 -> 31 | AJ11: =COUNTIF(C11:AF11, TRUE) -> 0 | AK11: =AJ11/AI11 -> 0
C12: FALSE | D12: FALSE | E12: FALSE | F12: FALSE | G12: FALSE | H12: FALSE | I12: FALSE | J12: FALSE | K12: FALSE | L12: FALSE | M12: FALSE | N12: FALSE | O12: FALSE | P12: FALSE | Q12: FALSE | R12: FALSE | S12: FALSE | T12: FALSE | U12: FALSE | V12: FALSE | W12: FALSE | X12: FALSE | Y12: FALSE | Z12: FALSE | AA12: FALSE | AB12: FALSE | AC12: FALSE | AD12: FALSE | AE12: FALSE | AF12: FALSE | AG12: FALSE | AI12: =31 -> 31 | AJ12: =COUNTIF(C12:AF12, TRUE) -> 0 | AK12: =AJ12/AI12 -> 0
C13: FALSE | D13: FALSE | E13: FALSE | F13: FALSE | G13: FALSE | H13: FALSE | I13: FALSE | J13: FALSE | K13: FALSE | L13: FALSE | M13: FALSE | N13: FALSE | O13: FALSE | P13: FALSE | Q13: FALSE | R13: FALSE | S13: FALSE | T13: FALSE | U13: FALSE | V13: FALSE | W13: FALSE | X13: FALSE | Y13: FALSE | Z13: FALSE | AA13: FALSE | AB13: FALSE | AC13: FALSE | AD13: FALSE | AE13: FALSE | AF13: FALSE | AG13: FALSE | AI13: =31 -> 31 | AJ13: =COUNTIF(C13:AF13, TRUE) -> 0 | AK13: =AJ13/AI13 -> 0
C14: FALSE | D14: FALSE | E14: FALSE | F14: FALSE | G14: FALSE | H14: FALSE | I14: FALSE | J14: FALSE | K14: FALSE | L14: FALSE | M14: FALSE | N14: FALSE | O14: FALSE | P14: FALSE | Q14: FALSE | R14: FALSE | S14: FALSE | T14: FALSE | U14: FALSE | V14: FALSE | W14: FALSE | X14: FALSE | Y14: FALSE | Z14: FALSE | AA14: FALSE | AB14: FALSE | AC14: FALSE | AD14: FALSE | AE14: FALSE | AF14: FALSE | AG14: FALSE | AI14: =31 -> 31 | AJ14: =COUNTIF(C14:AF14, TRUE) -> 0 | AK14: =AJ14/AI14 -> 0
C15: FALSE | D15: FALSE | E15: FALSE | F15: FALSE | G15: FALSE | H15: FALSE | I15: FALSE | J15: FALSE | K15: FALSE | L15: FALSE | M15: FALSE | N15: FALSE | O15: FALSE | P15: FALSE | Q15: FALSE | R15: FALSE | S15: FALSE | T15: FALSE | U15: FALSE | V15: FALSE | W15: FALSE | X15: FALSE | Y15: FALSE | Z15: FALSE | AA15: FALSE | AB15: FALSE | AC15: FALSE | AD15: FALSE | AE15: FALSE | AF15: FALSE | AG15: FALSE | AI15: =31 -> 31 | AJ15: =COUNTIF(C15:AF15, TRUE) -> 0 | AK15: =AJ15/AI15 -> 0
C16: FALSE | D16: FALSE | E16: FALSE | F16: FALSE | G16: FALSE | H16: FALSE | I16: FALSE | J16: FALSE | K16: FALSE | L16: FALSE | M16: FALSE | N16: FALSE | O16: FALSE | P16: FALSE | Q16: FALSE | R16: FALSE | S16: FALSE | T16: FALSE | U16: FALSE | V16: FALSE | W16: FALSE | X16: FALSE | Y16: FALSE | Z16: FALSE | AA16: FALSE | AB16: FALSE | AC16: FALSE | AD16: FALSE | AE16: FALSE | AF16: FALSE | AG16: FALSE | AI16: =31 -> 31 | AJ16: =COUNTIF(C16:AF16, TRUE) -> 0 | AK16: =AJ16/AI16 -> 0
C17: FALSE | D17: FALSE | E17: FALSE | F17: FALSE | G17: FALSE | H17: FALSE | I17: FALSE | J17: FALSE | K17: FALSE | L17: FALSE | M17: FALSE | N17: FALSE | O17: FALSE | P17: FALSE | Q17: FALSE | R17: FALSE | S17: FALSE | T17: FALSE | U17: FALSE | V17: FALSE | W17: FALSE | X17: FALSE | Y17: FALSE | Z17: FALSE | AA17: FALSE | AB17: FALSE | AC17: FALSE | AD17: FALSE | AE17: FALSE | AF17: FALSE | AG17: FALSE | AI17: =31 -> 31 | AJ17: =COUNTIF(C17:AF17, TRUE) -> 0 | AK17: =AJ17/AI17 -> 0
C18: FALSE | D18: FALSE | E18: FALSE | F18: FALSE | G18: FALSE | H18: FALSE | I18: FALSE | J18: FALSE | K18: FALSE | L18: FALSE | M18: FALSE | N18: FALSE | O18: FALSE | P18: FALSE | Q18: FALSE | R18: FALSE | S18: FALSE | T18: FALSE | U18: FALSE | V18: FALSE | W18: FALSE | X18: FALSE | Y18: FALSE | Z18: FALSE | AA18: FALSE | AB18: FALSE | AC18: FALSE | AD18: FALSE | AE18: FALSE | AF18: FALSE | AG18: FALSE | AI18: =31 -> 31 | AJ18: =COUNTIF(C18:AF18, TRUE) -> 0 | AK18: =AJ18/AI18 -> 0
C19: FALSE | D19: FALSE | E19: FALSE | F19: FALSE | G19: FALSE | H19: FALSE | I19: FALSE | J19: FALSE | K19: FALSE | L19: FALSE | M19: FALSE | N19: FALSE | O19: FALSE | P19: FALSE | Q19: FALSE | R19: FALSE | S19: FALSE | T19: FALSE | U19: FALSE | V19: FALSE | W19: FALSE | X19: FALSE | Y19: FALSE | Z19: FALSE | AA19: FALSE | AB19: FALSE | AC19: FALSE | AD19: FALSE | AE19: FALSE | AF19: FALSE | AG19: FALSE | AI19: =31 -> 31 | AJ19: =COUNTIF(C19:AF19, TRUE) -> 0 | AK19: =AJ19/AI19 -> 0
B21: Progreso | C21: =IFERROR( COUNTIFS(C10:C19,TRUE, $B$10:$B$19,"<>") / COUNTIF($B$10:$B$19,"<>"), 0) -> 0 | D21: =IFERROR( COUNTIFS(D10:D19,TRUE, $B$10:$B$19,"<>") / COUNTIF($B$10:$B$19,"<>"), 0) -> 0 | E21: =IFERROR( COUNTIFS(E10:E19,TRUE, $B$10:$B$19,"<>") / COUNTIF($B$10:$B$19,"<>"), 0) -> 0 | F21: =IFERROR( COUNTIFS(F10:F19,TRUE, $B$10:$B$19,"<>") / COUNTIF($B$10:$B$19,"<>"), 0) -> 0 | G21: =IFERROR( COUNTIFS(G10:G19,TRUE, $B$10:$B$19,"<>") / COUNTIF($B$10:$B$19,"<>"), 0) -> 0 | H21: =IFERROR( COUNTIFS(H10:H19,TRUE, $B$10:$B$19,"<>") / COUNTIF($B$10:$B$19,"<>"), 0) -> 0 | I21: =IFERROR( COUNTIFS(I10:I19,TRUE, $B$10:$B$19,"<>") / COUNTIF($B$10:$B$19,"<>"), 0) -> 0 | J21: =IFERROR( COUNTIFS(J10:J19,TRUE, $B$10:$B$19,"<>") / COUNTIF($B$10:$B$19,"<>"), 0) -> 0 | ... AG21: =IFERROR( COUNTIFS(AG10:AG19,TRUE, $B$10:$B$19,"<>") / COUNTIF($B$10:$B$19,"<>"), 0) -> 0
B22: Hecho | C22: =COUNTIFS(C10:C19,TRUE, $B$10:$B$19,"<>") -> 0 | D22: =COUNTIFS(D10:D19,TRUE, $B$10:$B$19,"<>") -> 0 | E22: =COUNTIFS(E10:E19,TRUE, $B$10:$B$19,"<>") -> 0 | F22: =COUNTIFS(F10:F19,TRUE, $B$10:$B$19,"<>") -> 0 | G22: =COUNTIFS(G10:G19,TRUE, $B$10:$B$19,"<>") -> 0 | H22: =COUNTIFS(H10:H19,TRUE, $B$10:$B$19,"<>") -> 0 | I22: =COUNTIFS(I10:I19,TRUE, $B$10:$B$19,"<>") -> 0 | J22: =COUNTIFS(J10:J19,TRUE, $B$10:$B$19,"<>") -> 0 | ... AG22: =COUNTIFS(AG10:AG19,TRUE, $B$10:$B$19,"<>") -> 0
B23: No Hecho | C23: =COUNTIFS(C10:C19,FALSE, $B$10:$B$19,"<>") -> 0 | D23: =COUNTIFS(D10:D19,FALSE, $B$10:$B$19,"<>") -> 0 | E23: =COUNTIFS(E10:E19,FALSE, $B$10:$B$19,"<>") -> 0 | F23: =COUNTIFS(F10:F19,FALSE, $B$10:$B$19,"<>") -> 0 | G23: =COUNTIFS(G10:G19,FALSE, $B$10:$B$19,"<>") -> 0 | H23: =COUNTIFS(H10:H19,FALSE, $B$10:$B$19,"<>") -> 0 | I23: =COUNTIFS(I10:I19,FALSE, $B$10:$B$19,"<>") -> 0 | J23: =COUNTIFS(J10:J19,FALSE, $B$10:$B$19,"<>") -> 0 | ... AG23: =COUNTIFS(AG10:AG19,FALSE, $B$10:$B$19,"<>") -> 0
C34: Estado mental
B35: Ánimo
B36: Motivación
C37: =(C36+C35)/20 -> 0 | D37: =(D36+D35)/20 -> 0 | E37: =(E36+E35)/20 -> 0 | F37: =(F36+F35)/20 -> 0 | G37: =(G36+G35)/20 -> 0 | H37: =(H36+H35)/20 -> 0 | I37: =(I36+I35)/20 -> 0 | J37: =(J36+J35)/20 -> 0 | ... AG37: =(AG36+AG35)/20 -> 0

Sheet Nov
B3: Noviembre | J3: Número de hábitos | P3: Hábitos completados | V3: Progreso | AB3: Progreso en %
J4: =COUNTA($B$10:$B$19) -> 0 | P4: =COUNTIF($C$10:$AF$19, TRUE) -> 0 | V4: =AB4 -> 0 | AB4: =IFERROR( P4 / ( COUNTA($B$10:$B$19) * COUNTA($C$10:$AF$10) ), 0) -> 0
B7: Mis hábitos | C7: Semana 1 | J7: Semana 2 | Q7: Semana 3 | X7: Semana 4 | AH7: Análisis
C8: Dom | D8: Lun | E8: Mar | F8: Mié | G8: Jue | H8: Vie | I8: Sáb | J8: Dom | K8: Lun | L8: Mar | M8: Mié | N8: Jue | O8: Vie | P8: Sáb | Q8: Dom | R8: Lun | S8: Mar | T8: Mié | U8: Jue | V8: Vie | W8: Sáb | X8: Dom | Y8: Lun | Z8: Mar | AA8: Mié | AB8: Jue | AC8: Vie | AD8: Sáb | AE8: Dom | AF8: Lun
C9: 1 | D9: 2 | E9: 3 | F9: 4 | G9: 5 | H9: 6 | I9: 7 | J9: 8 | K9: 9 | L9: 10 | M9: 11 | N9: 12 | O9: 13 | P9: 14 | Q9: 15 | R9: 16 | S9: 17 | T9: 18 | U9: 19 | V9: 20 | W9: 21 | X9: 22 | Y9: 23 | Z9: 24 | AA9: 25 | AB9: 26 | AC9: 27 | AD9: 28 | AE9: 29 | AF9: 30 | AH9: Meta | AI9: Actual | AJ9: Progreso
C10: FALSE | D10: FALSE | E10: FALSE | F10: FALSE | G10: FALSE | H10: FALSE | I10: FALSE | J10: FALSE | K10: FALSE | L10: FALSE | M10: FALSE | N10: FALSE | O10: FALSE | P10: FALSE | Q10: FALSE | R10: FALSE | S10: FALSE | T10: FALSE | U10: FALSE | V10: FALSE | W10: FALSE | X10: FALSE | Y10: FALSE | Z10: FALSE | AA10: FALSE | AB10: FALSE | AC10: FALSE | AD10: FALSE | AE10: FALSE | AF10: FALSE | AH10: =30 -> 30 | AI10: =COUNTIF(C10:AF10, TRUE) -> 0 | AJ10: =AI10/AH10 -> 0
C11: FALSE | D11: FALSE | E11: FALSE | F11: FALSE | G11: FALSE | H11: FALSE | I11: FALSE | J11: FALSE | K11: FALSE | L11: FALSE | M11: FALSE | N11: FALSE | O11: FALSE | P11: FALSE | Q11: FALSE | R11: FALSE | S11: FALSE | T11: FALSE | U11: FALSE | V11: FALSE | W11: FALSE | X11: FALSE | Y11: FALSE | Z11: FALSE | AA11: FALSE | AB11: FALSE | AC11: FALSE | AD11: FALSE | AE11: FALSE | AF11: FALSE | AH11: =30 -> 30 | AI11: =COUNTIF(C11:AF11, TRUE) -> 0 | AJ11: =AI11/AH11 -> 0
C12: FALSE | D12: FALSE | E12: FALSE | F12: FALSE | G12: FALSE | H12: FALSE | I12: FALSE | J12: FALSE | K12: FALSE | L12: FALSE | M12: FALSE | N12: FALSE | O12: FALSE | P12: FALSE | Q12: FALSE | R12: FALSE | S12: FALSE | T12: FALSE | U12: FALSE | V12: FALSE | W12: FALSE | X12: FALSE | Y12: FALSE | Z12: FALSE | AA12: FALSE | AB12: FALSE | AC12: FALSE | AD12: FALSE | AE12: FALSE | AF12: FALSE | AH12: =30 -> 30 | AI12: =COUNTIF(C12:AF12, TRUE) -> 0 | AJ12: =AI12/AH12 -> 0
C13: FALSE | D13: FALSE | E13: FALSE | F13: FALSE | G13: FALSE | H13: FALSE | I13: FALSE | J13: FALSE | K13: FALSE | L13: FALSE | M13: FALSE | N13: FALSE | O13: FALSE | P13: FALSE | Q13: FALSE | R13: FALSE | S13: FALSE | T13: FALSE | U13: FALSE | V13: FALSE | W13: FALSE | X13: FALSE | Y13: FALSE | Z13: FALSE | AA13: FALSE | AB13: FALSE | AC13: FALSE | AD13: FALSE | AE13: FALSE | AF13: FALSE | AH13: =30 -> 30 | AI13: =COUNTIF(C13:AF13, TRUE) -> 0 | AJ13: =AI13/AH13 -> 0
C14: FALSE | D14: FALSE | E14: FALSE | F14: FALSE | G14: FALSE | H14: FALSE | I14: FALSE | J14: FALSE | K14: FALSE | L14: FALSE | M14: FALSE | N14: FALSE | O14: FALSE | P14: FALSE | Q14: FALSE | R14: FALSE | S14: FALSE | T14: FALSE | U14: FALSE | V14: FALSE | W14: FALSE | X14: FALSE | Y14: FALSE | Z14: FALSE | AA14: FALSE | AB14: FALSE | AC14: FALSE | AD14: FALSE | AE14: FALSE | AF14: FALSE | AH14: =30 -> 30 | AI14: =COUNTIF(C14:AF14, TRUE) -> 0 | AJ14: =AI14/AH14 -> 0
C15: FALSE | D15: FALSE | E15: FALSE | F15: FALSE | G15: FALSE | H15: FALSE | I15: FALSE | J15: FALSE | K15: FALSE | L15: FALSE | M15: FALSE | N15: FALSE | O15: FALSE | P15: FALSE | Q15: FALSE | R15: FALSE | S15: FALSE | T15: FALSE | U15: FALSE | V15: FALSE | W15: FALSE | X15: FALSE | Y15: FALSE | Z15: FALSE | AA15: FALSE | AB15: FALSE | AC15: FALSE | AD15: FALSE | AE15: FALSE | AF15: FALSE | AH15: =30 -> 30 | AI15: =COUNTIF(C15:AF15, TRUE) -> 0 | AJ15: =AI15/AH15 -> 0
C16: FALSE | D16: FALSE | E16: FALSE | F16: FALSE | G16: FALSE | H16: FALSE | I16: FALSE | J16: FALSE | K16: FALSE | L16: FALSE | M16: FALSE | N16: FALSE | O16: FALSE | P16: FALSE | Q16: FALSE | R16: FALSE | S16: FALSE | T16: FALSE | U16: FALSE | V16: FALSE | W16: FALSE | X16: FALSE | Y16: FALSE | Z16: FALSE | AA16: FALSE | AB16: FALSE | AC16: FALSE | AD16: FALSE | AE16: FALSE | AF16: FALSE | AH16: =30 -> 30 | AI16: =COUNTIF(C16:AF16, TRUE) -> 0 | AJ16: =AI16/AH16 -> 0
C17: FALSE | D17: FALSE | E17: FALSE | F17: FALSE | G17: FALSE | H17: FALSE | I17: FALSE | J17: FALSE | K17: FALSE | L17: FALSE | M17: FALSE | N17: FALSE | O17: FALSE | P17: FALSE | Q17: FALSE | R17: FALSE | S17: FALSE | T17: FALSE | U17: FALSE | V17: FALSE | W17: FALSE | X17: FALSE | Y17: FALSE | Z17: FALSE | AA17: FALSE | AB17: FALSE | AC17: FALSE | AD17: FALSE | AE17: FALSE | AF17: FALSE | AH17: =30 -> 30 | AI17: =COUNTIF(C17:AF17, TRUE) -> 0 | AJ17: =AI17/AH17 -> 0
C18: FALSE | D18: FALSE | E18: FALSE | F18: FALSE | G18: FALSE | H18: FALSE | I18: FALSE | J18: FALSE | K18: FALSE | L18: FALSE | M18: FALSE | N18: FALSE | O18: FALSE | P18: FALSE | Q18: FALSE | R18: FALSE | S18: FALSE | T18: FALSE | U18: FALSE | V18: FALSE | W18: FALSE | X18: FALSE | Y18: FALSE | Z18: FALSE | AA18: FALSE | AB18: FALSE | AC18: FALSE | AD18: FALSE | AE18: FALSE | AF18: FALSE | AH18: =30 -> 30 | AI18: =COUNTIF(C18:AF18, TRUE) -> 0 | AJ18: =AI18/AH18 -> 0
C19: FALSE | D19: FALSE | E19: FALSE | F19: FALSE | G19: FALSE | H19: FALSE | I19: FALSE | J19: FALSE | K19: FALSE | L19: FALSE | M19: FALSE | N19: FALSE | O19: FALSE | P19: FALSE | Q19: FALSE | R19: FALSE | S19: FALSE | T19: FALSE | U19: FALSE | V19: FALSE | W19: FALSE | X19: FALSE | Y19: FALSE | Z19: FALSE | AA19: FALSE | AB19: FALSE | AC19: FALSE | AD19: FALSE | AE19: FALSE | AF19: FALSE | AH19: =30 -> 30 | AI19: =COUNTIF(C19:AF19, TRUE) -> 0 | AJ19: =AI19/AH19 -> 0
B21: Progreso | C21: =IFERROR( COUNTIFS(C10:C19,TRUE, $B$10:$B$19,"<>") / COUNTIF($B$10:$B$19,"<>"), 0) -> 0 | D21: =IFERROR( COUNTIFS(D10:D19,TRUE, $B$10:$B$19,"<>") / COUNTIF($B$10:$B$19,"<>"), 0) -> 0 | E21: =IFERROR( COUNTIFS(E10:E19,TRUE, $B$10:$B$19,"<>") / COUNTIF($B$10:$B$19,"<>"), 0) -> 0 | F21: =IFERROR( COUNTIFS(F10:F19,TRUE, $B$10:$B$19,"<>") / COUNTIF($B$10:$B$19,"<>"), 0) -> 0 | G21: =IFERROR( COUNTIFS(G10:G19,TRUE, $B$10:$B$19,"<>") / COUNTIF($B$10:$B$19,"<>"), 0) -> 0 | H21: =IFERROR( COUNTIFS(H10:H19,TRUE, $B$10:$B$19,"<>") / COUNTIF($B$10:$B$19,"<>"), 0) -> 0 | I21: =IFERROR( COUNTIFS(I10:I19,TRUE, $B$10:$B$19,"<>") / COUNTIF($B$10:$B$19,"<>"), 0) -> 0 | J21: =IFERROR( COUNTIFS(J10:J19,TRUE, $B$10:$B$19,"<>") / COUNTIF($B$10:$B$19,"<>"), 0) -> 0 | ... AF21: =IFERROR( COUNTIFS(AF10:AF19,TRUE, $B$10:$B$19,"<>") / COUNTIF($B$10:$B$19,"<>"), 0) -> 0
B22: Hecho | C22: =COUNTIFS(C10:C19,TRUE, $B$10:$B$19,"<>") -> 0 | D22: =COUNTIFS(D10:D19,TRUE, $B$10:$B$19,"<>") -> 0 | E22: =COUNTIFS(E10:E19,TRUE, $B$10:$B$19,"<>") -> 0 | F22: =COUNTIFS(F10:F19,TRUE, $B$10:$B$19,"<>") -> 0 | G22: =COUNTIFS(G10:G19,TRUE, $B$10:$B$19,"<>") -> 0 | H22: =COUNTIFS(H10:H19,TRUE, $B$10:$B$19,"<>") -> 0 | I22: =COUNTIFS(I10:I19,TRUE, $B$10:$B$19,"<>") -> 0 | J22: =COUNTIFS(J10:J19,TRUE, $B$10:$B$19,"<>") -> 0 | ... AF22: =COUNTIFS(AF10:AF19,TRUE, $B$10:$B$19,"<>") -> 0
B23: No Hecho | C23: =COUNTIFS(C10:C19,FALSE, $B$10:$B$19,"<>") -> 0 | D23: =COUNTIFS(D10:D19,FALSE, $B$10:$B$19,"<>") -> 0 | E23: =COUNTIFS(E10:E19,FALSE, $B$10:$B$19,"<>") -> 0 | F23: =COUNTIFS(F10:F19,FALSE, $B$10:$B$19,"<>") -> 0 | G23: =COUNTIFS(G10:G19,FALSE, $B$10:$B$19,"<>") -> 0 | H23: =COUNTIFS(H10:H19,FALSE, $B$10:$B$19,"<>") -> 0 | I23: =COUNTIFS(I10:I19,FALSE, $B$10:$B$19,"<>") -> 0 | J23: =COUNTIFS(J10:J19,FALSE, $B$10:$B$19,"<>") -> 0 | ... AF23: =COUNTIFS(AF10:AF19,FALSE, $B$10:$B$19,"<>") -> 0
C34: Estado mental
B35: Ánimo
B36: Motivación
C37: =(C36+C35)/20 -> 0 | D37: =(D36+D35)/20 -> 0 | E37: =(E36+E35)/20 -> 0 | F37: =(F36+F35)/20 -> 0 | G37: =(G36+G35)/20 -> 0 | H37: =(H36+H35)/20 -> 0 | I37: =(I36+I35)/20 -> 0 | J37: =(J36+J35)/20 -> 0 | ... AF37: =(AF36+AF35)/20 -> 0

Sheet Dic
B3: Diciembre | J3: Número de hábitos | P3: Hábitos completados | V3: Progreso | AB3: Progreso en %
J4: =COUNTA($B$10:$B$19) -> 0 | P4: =COUNTIF($C$10:$AF$19, TRUE) -> 0 | V4: =AB4 -> 0 | AB4: =IFERROR( P4 / ( COUNTA($B$10:$B$19) * COUNTA($C$10:$AG$10) ), 0) -> 0
B7: Mis hábitos | C7: Semana 1 | J7: Semana 2 | Q7: Semana 3 | X7: Semana 4 | AI7: Análisis
C8: Mar | D8: Mié | E8: Jue | F8: Vie | G8: Sáb | H8: Dom | I8: Lun | J8: Mar | K8: Mié | L8: Jue | M8: Vie | N8: Sáb | O8: Dom | P8: Lun | Q8: Mar | R8: Mié | S8: Jue | T8: Vie | U8: Sáb | V8: Dom | W8: Lun | X8: Mar | Y8: Mié | Z8: Jue | AA8: Vie | AB8: Sáb | AC8: Dom | AD8: Lun | AE8: Mar | AF8: Mié | AG8: Jue
C9: 1 | D9: 2 | E9: 3 | F9: 4 | G9: 5 | H9: 6 | I9: 7 | J9: 8 | K9: 9 | L9: 10 | M9: 11 | N9: 12 | O9: 13 | P9: 14 | Q9: 15 | R9: 16 | S9: 17 | T9: 18 | U9: 19 | V9: 20 | W9: 21 | X9: 22 | Y9: 23 | Z9: 24 | AA9: 25 | AB9: 26 | AC9: 27 | AD9: 28 | AE9: 29 | AF9: 30 | AG9: 31 | AI9: Meta | AJ9: Actual | AK9: Progreso
C10: FALSE | D10: FALSE | E10: FALSE | F10: FALSE | G10: FALSE | H10: FALSE | I10: FALSE | J10: FALSE | K10: FALSE | L10: FALSE | M10: FALSE | N10: FALSE | O10: FALSE | P10: FALSE | Q10: FALSE | R10: FALSE | S10: FALSE | T10: FALSE | U10: FALSE | V10: FALSE | W10: FALSE | X10: FALSE | Y10: FALSE | Z10: FALSE | AA10: FALSE | AB10: FALSE | AC10: FALSE | AD10: FALSE | AE10: FALSE | AF10: FALSE | AG10: FALSE | AI10: =31 -> 31 | AJ10: =COUNTIF(C10:AF10, TRUE) -> 0 | AK10: =AJ10/AI10 -> 0
C11: FALSE | D11: FALSE | E11: FALSE | F11: FALSE | G11: FALSE | H11: FALSE | I11: FALSE | J11: FALSE | K11: FALSE | L11: FALSE | M11: FALSE | N11: FALSE | O11: FALSE | P11: FALSE | Q11: FALSE | R11: FALSE | S11: FALSE | T11: FALSE | U11: FALSE | V11: FALSE | W11: FALSE | X11: FALSE | Y11: FALSE | Z11: FALSE | AA11: FALSE | AB11: FALSE | AC11: FALSE | AD11: FALSE | AE11: FALSE | AF11: FALSE | AG11: FALSE | AI11: =31 -> 31 | AJ11: =COUNTIF(C11:AF11, TRUE) -> 0 | AK11: =AJ11/AI11 -> 0
C12: FALSE | D12: FALSE | E12: FALSE | F12: FALSE | G12: FALSE | H12: FALSE | I12: FALSE | J12: FALSE | K12: FALSE | L12: FALSE | M12: FALSE | N12: FALSE | O12: FALSE | P12: FALSE | Q12: FALSE | R12: FALSE | S12: FALSE | T12: FALSE | U12: FALSE | V12: FALSE | W12: FALSE | X12: FALSE | Y12: FALSE | Z12: FALSE | AA12: FALSE | AB12: FALSE | AC12: FALSE | AD12: FALSE | AE12: FALSE | AF12: FALSE | AG12: FALSE | AI12: =31 -> 31 | AJ12: =COUNTIF(C12:AF12, TRUE) -> 0 | AK12: =AJ12/AI12 -> 0
C13: FALSE | D13: FALSE | E13: FALSE | F13: FALSE | G13: FALSE | H13: FALSE | I13: FALSE | J13: FALSE | K13: FALSE | L13: FALSE | M13: FALSE | N13: FALSE | O13: FALSE | P13: FALSE | Q13: FALSE | R13: FALSE | S13: FALSE | T13: FALSE | U13: FALSE | V13: FALSE | W13: FALSE | X13: FALSE | Y13: FALSE | Z13: FALSE | AA13: FALSE | AB13: FALSE | AC13: FALSE | AD13: FALSE | AE13: FALSE | AF13: FALSE | AG13: FALSE | AI13: =31 -> 31 | AJ13: =COUNTIF(C13:AF13, TRUE) -> 0 | AK13: =AJ13/AI13 -> 0
C14: FALSE | D14: FALSE | E14: FALSE | F14: FALSE | G14: FALSE | H14: FALSE | I14: FALSE | J14: FALSE | K14: FALSE | L14: FALSE | M14: FALSE | N14: FALSE | O14: FALSE | P14: FALSE | Q14: FALSE | R14: FALSE | S14: FALSE | T14: FALSE | U14: FALSE | V14: FALSE | W14: FALSE | X14: FALSE | Y14: FALSE | Z14: FALSE | AA14: FALSE | AB14: FALSE | AC14: FALSE | AD14: FALSE | AE14: FALSE | AF14: FALSE | AG14: FALSE | AI14: =31 -> 31 | AJ14: =COUNTIF(C14:AF14, TRUE) -> 0 | AK14: =AJ14/AI14 -> 0
C15: FALSE | D15: FALSE | E15: FALSE | F15: FALSE | G15: FALSE | H15: FALSE | I15: FALSE | J15: FALSE | K15: FALSE | L15: FALSE | M15: FALSE | N15: FALSE | O15: FALSE | P15: FALSE | Q15: FALSE | R15: FALSE | S15: FALSE | T15: FALSE | U15: FALSE | V15: FALSE | W15: FALSE | X15: FALSE | Y15: FALSE | Z15: FALSE | AA15: FALSE | AB15: FALSE | AC15: FALSE | AD15: FALSE | AE15: FALSE | AF15: FALSE | AG15: FALSE | AI15: =31 -> 31 | AJ15: =COUNTIF(C15:AF15, TRUE) -> 0 | AK15: =AJ15/AI15 -> 0
C16: FALSE | D16: FALSE | E16: FALSE | F16: FALSE | G16: FALSE | H16: FALSE | I16: FALSE | J16: FALSE | K16: FALSE | L16: FALSE | M16: FALSE | N16: FALSE | O16: FALSE | P16: FALSE | Q16: FALSE | R16: FALSE | S16: FALSE | T16: FALSE | U16: FALSE | V16: FALSE | W16: FALSE | X16: FALSE | Y16: FALSE | Z16: FALSE | AA16: FALSE | AB16: FALSE | AC16: FALSE | AD16: FALSE | AE16: FALSE | AF16: FALSE | AG16: FALSE | AI16: =31 -> 31 | AJ16: =COUNTIF(C16:AF16, TRUE) -> 0 | AK16: =AJ16/AI16 -> 0
C17: FALSE | D17: FALSE | E17: FALSE | F17: FALSE | G17: FALSE | H17: FALSE | I17: FALSE | J17: FALSE | K17: FALSE | L17: FALSE | M17: FALSE | N17: FALSE | O17: FALSE | P17: FALSE | Q17: FALSE | R17: FALSE | S17: FALSE | T17: FALSE | U17: FALSE | V17: FALSE | W17: FALSE | X17: FALSE | Y17: FALSE | Z17: FALSE | AA17: FALSE | AB17: FALSE | AC17: FALSE | AD17: FALSE | AE17: FALSE | AF17: FALSE | AG17: FALSE | AI17: =31 -> 31 | AJ17: =COUNTIF(C17:AF17, TRUE) -> 0 | AK17: =AJ17/AI17 -> 0
C18: FALSE | D18: FALSE | E18: FALSE | F18: FALSE | G18: FALSE | H18: FALSE | I18: FALSE | J18: FALSE | K18: FALSE | L18: FALSE | M18: FALSE | N18: FALSE | O18: FALSE | P18: FALSE | Q18: FALSE | R18: FALSE | S18: FALSE | T18: FALSE | U18: FALSE | V18: FALSE | W18: FALSE | X18: FALSE | Y18: FALSE | Z18: FALSE | AA18: FALSE | AB18: FALSE | AC18: FALSE | AD18: FALSE | AE18: FALSE | AF18: FALSE | AG18: FALSE | AI18: =31 -> 31 | AJ18: =COUNTIF(C18:AF18, TRUE) -> 0 | AK18: =AJ18/AI18 -> 0
C19: FALSE | D19: FALSE | E19: FALSE | F19: FALSE | G19: FALSE | H19: FALSE | I19: FALSE | J19: FALSE | K19: FALSE | L19: FALSE | M19: FALSE | N19: FALSE | O19: FALSE | P19: FALSE | Q19: FALSE | R19: FALSE | S19: FALSE | T19: FALSE | U19: FALSE | V19: FALSE | W19: FALSE | X19: FALSE | Y19: FALSE | Z19: FALSE | AA19: FALSE | AB19: FALSE | AC19: FALSE | AD19: FALSE | AE19: FALSE | AF19: FALSE | AG19: FALSE | AI19: =31 -> 31 | AJ19: =COUNTIF(C19:AF19, TRUE) -> 0 | AK19: =AJ19/AI19 -> 0
B21: Progreso | C21: =IFERROR( COUNTIFS(C10:C19,TRUE, $B$10:$B$19,"<>") / COUNTIF($B$10:$B$19,"<>"), 0) -> 0 | D21: =IFERROR( COUNTIFS(D10:D19,TRUE, $B$10:$B$19,"<>") / COUNTIF($B$10:$B$19,"<>"), 0) -> 0 | E21: =IFERROR( COUNTIFS(E10:E19,TRUE, $B$10:$B$19,"<>") / COUNTIF($B$10:$B$19,"<>"), 0) -> 0 | F21: =IFERROR( COUNTIFS(F10:F19,TRUE, $B$10:$B$19,"<>") / COUNTIF($B$10:$B$19,"<>"), 0) -> 0 | G21: =IFERROR( COUNTIFS(G10:G19,TRUE, $B$10:$B$19,"<>") / COUNTIF($B$10:$B$19,"<>"), 0) -> 0 | H21: =IFERROR( COUNTIFS(H10:H19,TRUE, $B$10:$B$19,"<>") / COUNTIF($B$10:$B$19,"<>"), 0) -> 0 | I21: =IFERROR( COUNTIFS(I10:I19,TRUE, $B$10:$B$19,"<>") / COUNTIF($B$10:$B$19,"<>"), 0) -> 0 | J21: =IFERROR( COUNTIFS(J10:J19,TRUE, $B$10:$B$19,"<>") / COUNTIF($B$10:$B$19,"<>"), 0) -> 0 | ... AG21: =IFERROR( COUNTIFS(AG10:AG19,TRUE, $B$10:$B$19,"<>") / COUNTIF($B$10:$B$19,"<>"), 0) -> 0
B22: Hecho | C22: =COUNTIFS(C10:C19,TRUE, $B$10:$B$19,"<>") -> 0 | D22: =COUNTIFS(D10:D19,TRUE, $B$10:$B$19,"<>") -> 0 | E22: =COUNTIFS(E10:E19,TRUE, $B$10:$B$19,"<>") -> 0 | F22: =COUNTIFS(F10:F19,TRUE, $B$10:$B$19,"<>") -> 0 | G22: =COUNTIFS(G10:G19,TRUE, $B$10:$B$19,"<>") -> 0 | H22: =COUNTIFS(H10:H19,TRUE, $B$10:$B$19,"<>") -> 0 | I22: =COUNTIFS(I10:I19,TRUE, $B$10:$B$19,"<>") -> 0 | J22: =COUNTIFS(J10:J19,TRUE, $B$10:$B$19,"<>") -> 0 | ... AG22: =COUNTIFS(AG10:AG19,TRUE, $B$10:$B$19,"<>") -> 0
B23: No Hecho | C23: =COUNTIFS(C10:C19,FALSE, $B$10:$B$19,"<>") -> 0 | D23: =COUNTIFS(D10:D19,FALSE, $B$10:$B$19,"<>") -> 0 | E23: =COUNTIFS(E10:E19,FALSE, $B$10:$B$19,"<>") -> 0 | F23: =COUNTIFS(F10:F19,FALSE, $B$10:$B$19,"<>") -> 0 | G23: =COUNTIFS(G10:G19,FALSE, $B$10:$B$19,"<>") -> 0 | H23: =COUNTIFS(H10:H19,FALSE, $B$10:$B$19,"<>") -> 0 | I23: =COUNTIFS(I10:I19,FALSE, $B$10:$B$19,"<>") -> 0 | J23: =COUNTIFS(J10:J19,FALSE, $B$10:$B$19,"<>") -> 0 | ... AG23: =COUNTIFS(AG10:AG19,FALSE, $B$10:$B$19,"<>") -> 0
C34: Estado mental
B35: Ánimo
B36: Motivación
C37: =(C36+C35)/20 -> 0 | D37: =(D36+D35)/20 -> 0 | E37: =(E36+E35)/20 -> 0 | F37: =(F36+F35)/20 -> 0 | G37: =(G36+G35)/20 -> 0 | H37: =(H36+H35)/20 -> 0 | I37: =(I36+I35)/20 -> 0 | J37: =(J36+J35)/20 -> 0 | ... AG37: =(AG36+AG35)/20 -> 0
